BEGIN:VCALENDAR
VERSION:2.0
PRODID:-//Love INC Lake County - ECPv6.14.2//NONSGML v1.0//EN
CALSCALE:GREGORIAN
METHOD:PUBLISH
X-ORIGINAL-URL:https://loveinclakecounty.org
X-WR-CALDESC:Events for Love INC Lake County
REFRESH-INTERVAL;VALUE=DURATION:PT1H
X-Robots-Tag:noindex
X-PUBLISHED-TTL:PT1H
BEGIN:VTIMEZONE
TZID:America/Chicago
BEGIN:DAYLIGHT
TZOFFSETFROM:-0600
TZOFFSETTO:-0500
TZNAME:CDT
DTSTART:20230312T080000
END:DAYLIGHT
BEGIN:STANDARD
TZOFFSETFROM:-0500
TZOFFSETTO:-0600
TZNAME:CST
DTSTART:20231105T070000
END:STANDARD
END:VTIMEZONE
BEGIN:VTIMEZONE
TZID:UTC
BEGIN:STANDARD
TZOFFSETFROM:+0000
TZOFFSETTO:+0000
TZNAME:UTC
DTSTART:20220101T000000
END:STANDARD
END:VTIMEZONE
BEGIN:VEVENT
DTSTART;TZID=America/Chicago:20230323T173000
DTEND;TZID=America/Chicago:20230323T200000
DTSTAMP:20260422T172651
CREATED:20230120T165904Z
LAST-MODIFIED:20230120T170315Z
UID:10002737-1679592600-1679601600@loveinclakecounty.org
SUMMARY:New Hope Ministry Volunteer Equipping (learning opportunity)
DESCRIPTION:Join our New Hope Ministry community! Our 12 week course will equip our volunteers to serve within New Hope Ministry. We share the DNA of Love INC and how God called us to serve within God’s kingdom. We learn skills such as recognizing and setting safe boundaries and listening skills to help us as we serve and build relationships with our neighbors. We explore some of the different poverty challenges our neighbors may be facing. At certain points during the training\, you will get to interact with our life skills class participants and facilitators in various roles\, to experience how our ministry operates first hand. We meet weekly on Thursdays for 12 weeks\, starting on February 2 ending with graduation on May 11. \nDinner and childcare are provided. Learn more or RSVP to Barb at newhope@loveinclakecounty.org or call 847.782.8630 x111.
URL:https://loveinclakecounty.org/event/new-hope-ministry-volunteer-equipping-learning-opportunity/2023-03-23/
LOCATION:First Presbyterian Church of Waukegan\, 122 N Martin Luther King Jr Ave\, Waukegan\, IL\, 60085\, United States
CATEGORIES:Learning Opportunity
ATTACH;FMTTYPE=image/png:https://loveinclakecounty.org/wp-content/uploads/2023/01/NHM-equipping-training-social.png
END:VEVENT
BEGIN:VEVENT
DTSTART;TZID=America/Chicago:20230316T173000
DTEND;TZID=America/Chicago:20230316T200000
DTSTAMP:20260422T172651
CREATED:20230120T165904Z
LAST-MODIFIED:20230120T170315Z
UID:10002736-1678987800-1678996800@loveinclakecounty.org
SUMMARY:New Hope Ministry Volunteer Equipping (learning opportunity)
DESCRIPTION:Join our New Hope Ministry community! Our 12 week course will equip our volunteers to serve within New Hope Ministry. We share the DNA of Love INC and how God called us to serve within God’s kingdom. We learn skills such as recognizing and setting safe boundaries and listening skills to help us as we serve and build relationships with our neighbors. We explore some of the different poverty challenges our neighbors may be facing. At certain points during the training\, you will get to interact with our life skills class participants and facilitators in various roles\, to experience how our ministry operates first hand. We meet weekly on Thursdays for 12 weeks\, starting on February 2 ending with graduation on May 11. \nDinner and childcare are provided. Learn more or RSVP to Barb at newhope@loveinclakecounty.org or call 847.782.8630 x111.
URL:https://loveinclakecounty.org/event/new-hope-ministry-volunteer-equipping-learning-opportunity/2023-03-16/
LOCATION:First Presbyterian Church of Waukegan\, 122 N Martin Luther King Jr Ave\, Waukegan\, IL\, 60085\, United States
CATEGORIES:Learning Opportunity
ATTACH;FMTTYPE=image/png:https://loveinclakecounty.org/wp-content/uploads/2023/01/NHM-equipping-training-social.png
END:VEVENT
BEGIN:VEVENT
DTSTART;TZID=America/Chicago:20230309T173000
DTEND;TZID=America/Chicago:20230309T200000
DTSTAMP:20260422T172651
CREATED:20230120T165904Z
LAST-MODIFIED:20230120T170315Z
UID:10002735-1678383000-1678392000@loveinclakecounty.org
SUMMARY:New Hope Ministry Volunteer Equipping (learning opportunity)
DESCRIPTION:Join our New Hope Ministry community! Our 12 week course will equip our volunteers to serve within New Hope Ministry. We share the DNA of Love INC and how God called us to serve within God’s kingdom. We learn skills such as recognizing and setting safe boundaries and listening skills to help us as we serve and build relationships with our neighbors. We explore some of the different poverty challenges our neighbors may be facing. At certain points during the training\, you will get to interact with our life skills class participants and facilitators in various roles\, to experience how our ministry operates first hand. We meet weekly on Thursdays for 12 weeks\, starting on February 2 ending with graduation on May 11. \nDinner and childcare are provided. Learn more or RSVP to Barb at newhope@loveinclakecounty.org or call 847.782.8630 x111.
URL:https://loveinclakecounty.org/event/new-hope-ministry-volunteer-equipping-learning-opportunity/2023-03-09/
LOCATION:First Presbyterian Church of Waukegan\, 122 N Martin Luther King Jr Ave\, Waukegan\, IL\, 60085\, United States
CATEGORIES:Learning Opportunity
ATTACH;FMTTYPE=image/png:https://loveinclakecounty.org/wp-content/uploads/2023/01/NHM-equipping-training-social.png
END:VEVENT
BEGIN:VEVENT
DTSTART;TZID=America/Chicago:20230302T173000
DTEND;TZID=America/Chicago:20230302T200000
DTSTAMP:20260422T172651
CREATED:20230120T165904Z
LAST-MODIFIED:20230120T170315Z
UID:10002734-1677778200-1677787200@loveinclakecounty.org
SUMMARY:New Hope Ministry Volunteer Equipping (learning opportunity)
DESCRIPTION:Join our New Hope Ministry community! Our 12 week course will equip our volunteers to serve within New Hope Ministry. We share the DNA of Love INC and how God called us to serve within God’s kingdom. We learn skills such as recognizing and setting safe boundaries and listening skills to help us as we serve and build relationships with our neighbors. We explore some of the different poverty challenges our neighbors may be facing. At certain points during the training\, you will get to interact with our life skills class participants and facilitators in various roles\, to experience how our ministry operates first hand. We meet weekly on Thursdays for 12 weeks\, starting on February 2 ending with graduation on May 11. \nDinner and childcare are provided. Learn more or RSVP to Barb at newhope@loveinclakecounty.org or call 847.782.8630 x111.
URL:https://loveinclakecounty.org/event/new-hope-ministry-volunteer-equipping-learning-opportunity/2023-03-02/
LOCATION:First Presbyterian Church of Waukegan\, 122 N Martin Luther King Jr Ave\, Waukegan\, IL\, 60085\, United States
CATEGORIES:Learning Opportunity
ATTACH;FMTTYPE=image/png:https://loveinclakecounty.org/wp-content/uploads/2023/01/NHM-equipping-training-social.png
END:VEVENT
BEGIN:VEVENT
DTSTART;TZID=America/Chicago:20230223T173000
DTEND;TZID=America/Chicago:20230223T200000
DTSTAMP:20260422T172651
CREATED:20230120T165904Z
LAST-MODIFIED:20230120T170315Z
UID:10002733-1677173400-1677182400@loveinclakecounty.org
SUMMARY:New Hope Ministry Volunteer Equipping (learning opportunity)
DESCRIPTION:Join our New Hope Ministry community! Our 12 week course will equip our volunteers to serve within New Hope Ministry. We share the DNA of Love INC and how God called us to serve within God’s kingdom. We learn skills such as recognizing and setting safe boundaries and listening skills to help us as we serve and build relationships with our neighbors. We explore some of the different poverty challenges our neighbors may be facing. At certain points during the training\, you will get to interact with our life skills class participants and facilitators in various roles\, to experience how our ministry operates first hand. We meet weekly on Thursdays for 12 weeks\, starting on February 2 ending with graduation on May 11. \nDinner and childcare are provided. Learn more or RSVP to Barb at newhope@loveinclakecounty.org or call 847.782.8630 x111.
URL:https://loveinclakecounty.org/event/new-hope-ministry-volunteer-equipping-learning-opportunity/2023-02-23/
LOCATION:First Presbyterian Church of Waukegan\, 122 N Martin Luther King Jr Ave\, Waukegan\, IL\, 60085\, United States
CATEGORIES:Learning Opportunity
ATTACH;FMTTYPE=image/png:https://loveinclakecounty.org/wp-content/uploads/2023/01/NHM-equipping-training-social.png
END:VEVENT
BEGIN:VEVENT
DTSTART;TZID=America/Chicago:20230216T173000
DTEND;TZID=America/Chicago:20230216T200000
DTSTAMP:20260422T172651
CREATED:20230120T165904Z
LAST-MODIFIED:20230120T170315Z
UID:10002732-1676568600-1676577600@loveinclakecounty.org
SUMMARY:New Hope Ministry Volunteer Equipping (learning opportunity)
DESCRIPTION:Join our New Hope Ministry community! Our 12 week course will equip our volunteers to serve within New Hope Ministry. We share the DNA of Love INC and how God called us to serve within God’s kingdom. We learn skills such as recognizing and setting safe boundaries and listening skills to help us as we serve and build relationships with our neighbors. We explore some of the different poverty challenges our neighbors may be facing. At certain points during the training\, you will get to interact with our life skills class participants and facilitators in various roles\, to experience how our ministry operates first hand. We meet weekly on Thursdays for 12 weeks\, starting on February 2 ending with graduation on May 11. \nDinner and childcare are provided. Learn more or RSVP to Barb at newhope@loveinclakecounty.org or call 847.782.8630 x111.
URL:https://loveinclakecounty.org/event/new-hope-ministry-volunteer-equipping-learning-opportunity/2023-02-16/
LOCATION:First Presbyterian Church of Waukegan\, 122 N Martin Luther King Jr Ave\, Waukegan\, IL\, 60085\, United States
CATEGORIES:Learning Opportunity
ATTACH;FMTTYPE=image/png:https://loveinclakecounty.org/wp-content/uploads/2023/01/NHM-equipping-training-social.png
END:VEVENT
BEGIN:VEVENT
DTSTART;TZID=America/Chicago:20230209T173000
DTEND;TZID=America/Chicago:20230209T200000
DTSTAMP:20260422T172651
CREATED:20230120T165904Z
LAST-MODIFIED:20230120T170315Z
UID:10002731-1675963800-1675972800@loveinclakecounty.org
SUMMARY:New Hope Ministry Volunteer Equipping (learning opportunity)
DESCRIPTION:Join our New Hope Ministry community! Our 12 week course will equip our volunteers to serve within New Hope Ministry. We share the DNA of Love INC and how God called us to serve within God’s kingdom. We learn skills such as recognizing and setting safe boundaries and listening skills to help us as we serve and build relationships with our neighbors. We explore some of the different poverty challenges our neighbors may be facing. At certain points during the training\, you will get to interact with our life skills class participants and facilitators in various roles\, to experience how our ministry operates first hand. We meet weekly on Thursdays for 12 weeks\, starting on February 2 ending with graduation on May 11. \nDinner and childcare are provided. Learn more or RSVP to Barb at newhope@loveinclakecounty.org or call 847.782.8630 x111.
URL:https://loveinclakecounty.org/event/new-hope-ministry-volunteer-equipping-learning-opportunity/2023-02-09/
LOCATION:First Presbyterian Church of Waukegan\, 122 N Martin Luther King Jr Ave\, Waukegan\, IL\, 60085\, United States
CATEGORIES:Learning Opportunity
ATTACH;FMTTYPE=image/png:https://loveinclakecounty.org/wp-content/uploads/2023/01/NHM-equipping-training-social.png
END:VEVENT
BEGIN:VEVENT
DTSTART;TZID=America/Chicago:20230202T173000
DTEND;TZID=America/Chicago:20230202T200000
DTSTAMP:20260422T172651
CREATED:20230120T165904Z
LAST-MODIFIED:20230120T170315Z
UID:10002730-1675359000-1675368000@loveinclakecounty.org
SUMMARY:New Hope Ministry Volunteer Equipping (learning opportunity)
DESCRIPTION:Join our New Hope Ministry community! Our 12 week course will equip our volunteers to serve within New Hope Ministry. We share the DNA of Love INC and how God called us to serve within God’s kingdom. We learn skills such as recognizing and setting safe boundaries and listening skills to help us as we serve and build relationships with our neighbors. We explore some of the different poverty challenges our neighbors may be facing. At certain points during the training\, you will get to interact with our life skills class participants and facilitators in various roles\, to experience how our ministry operates first hand. We meet weekly on Thursdays for 12 weeks\, starting on February 2 ending with graduation on May 11. \nDinner and childcare are provided. Learn more or RSVP to Barb at newhope@loveinclakecounty.org or call 847.782.8630 x111.
URL:https://loveinclakecounty.org/event/new-hope-ministry-volunteer-equipping-learning-opportunity/2023-02-02/
LOCATION:First Presbyterian Church of Waukegan\, 122 N Martin Luther King Jr Ave\, Waukegan\, IL\, 60085\, United States
CATEGORIES:Learning Opportunity
ATTACH;FMTTYPE=image/png:https://loveinclakecounty.org/wp-content/uploads/2023/01/NHM-equipping-training-social.png
END:VEVENT
BEGIN:VEVENT
DTSTART;TZID=UTC:20221015T174500
DTEND;TZID=UTC:20221015T200000
DTSTAMP:20260422T172651
CREATED:20220926T230906Z
LAST-MODIFIED:20230120T170546Z
UID:10002725-1665855900-1665864000@loveinclakecounty.org
SUMMARY:New Hope Ministry Fall Connections (learning opportunity)
DESCRIPTION:Get a taste of what New Hope Ministry nights are all about! While our full-length classes are on pause\, we will meet once a month this fall to keep building community. Together\, we’ll explore Love\, Hope\, and Healing. Dinner and childcare are provided. Held at Christian Neighbors Church 222 N County St.\, Waukegan. Any questions? Contact newhope@loveinclakecounty.org or call 847.782.8630 x111.
URL:https://loveinclakecounty.org/event/new-hope-ministry-fall-connections-learning-opportunity/2022-10-15/
LOCATION:Christian Neighbors Church\, 222 N County St\, Waukegan\, IL\, 60085\, United States
CATEGORIES:Learning Opportunity
ATTACH;FMTTYPE=image/jpeg:https://loveinclakecounty.org/wp-content/uploads/2022/09/LoveIncLC_Home_News_2-1.jpg
END:VEVENT
BEGIN:VEVENT
DTSTART;TZID=UTC:20220926T180000
DTEND;TZID=UTC:20220926T203000
DTSTAMP:20260422T172651
CREATED:20220909T011746Z
LAST-MODIFIED:20230108T222805Z
UID:10002441-1664215200-1664224200@loveinclakecounty.org
SUMMARY:Bridges Out of Poverty workshop (learning opportunity)
DESCRIPTION:At The Chapel – Mundelein\, 1966 W. Hawley Street\, Mundelein **be sure you are at the right The Chapel campus!!! ** \nWe are often unaware of the “hidden rules” that govern many aspects of life for us all. People in poverty are often in survival mode\, and support systems taken for granted in middle class and wealth are largely nonexistent. Join us to gain an understanding of differences to help us to build relationships with patience\, generosity\, and without judgment. $20 donation suggested to cover the cost of the book. Register here.
URL:https://loveinclakecounty.org/event/bridges-out-of-poverty-workshop-learning-opportunity/2022-09-26/
LOCATION:The Chapel\, 1966 W Hawley St\, Mundelein\, IL\, 60060\, United States
CATEGORIES:Learning Opportunity
ATTACH;FMTTYPE=image/jpeg:https://loveinclakecounty.org/wp-content/uploads/2022/09/Bridges-graphic-square.jpg
END:VEVENT
BEGIN:VEVENT
DTSTART;TZID=UTC:20220919T180000
DTEND;TZID=UTC:20220919T203000
DTSTAMP:20260422T172651
CREATED:20220909T011746Z
LAST-MODIFIED:20230108T222805Z
UID:10002440-1663610400-1663619400@loveinclakecounty.org
SUMMARY:Bridges Out of Poverty workshop (learning opportunity)
DESCRIPTION:At The Chapel – Mundelein\, 1966 W. Hawley Street\, Mundelein **be sure you are at the right The Chapel campus!!! ** \nWe are often unaware of the “hidden rules” that govern many aspects of life for us all. People in poverty are often in survival mode\, and support systems taken for granted in middle class and wealth are largely nonexistent. Join us to gain an understanding of differences to help us to build relationships with patience\, generosity\, and without judgment. $20 donation suggested to cover the cost of the book. Register here.
URL:https://loveinclakecounty.org/event/bridges-out-of-poverty-workshop-learning-opportunity/2022-09-19/
LOCATION:The Chapel\, 1966 W Hawley St\, Mundelein\, IL\, 60060\, United States
CATEGORIES:Learning Opportunity
ATTACH;FMTTYPE=image/jpeg:https://loveinclakecounty.org/wp-content/uploads/2022/09/Bridges-graphic-square.jpg
END:VEVENT
BEGIN:VEVENT
DTSTART;TZID=UTC:20220917T174500
DTEND;TZID=UTC:20220917T200000
DTSTAMP:20260422T172651
CREATED:20220926T230906Z
LAST-MODIFIED:20230120T170546Z
UID:10002743-1663436700-1663444800@loveinclakecounty.org
SUMMARY:New Hope Ministry Fall Connections (learning opportunity)
DESCRIPTION:Get a taste of what New Hope Ministry nights are all about! While our full-length classes are on pause\, we will meet once a month this fall to keep building community. Together\, we’ll explore Love\, Hope\, and Healing. Dinner and childcare are provided. Held at Christian Neighbors Church 222 N County St.\, Waukegan. Any questions? Contact newhope@loveinclakecounty.org or call 847.782.8630 x111.
URL:https://loveinclakecounty.org/event/new-hope-ministry-fall-connections-learning-opportunity/2022-09-17/
LOCATION:Christian Neighbors Church\, 222 N County St\, Waukegan\, IL\, 60085\, United States
CATEGORIES:Learning Opportunity
ATTACH;FMTTYPE=image/jpeg:https://loveinclakecounty.org/wp-content/uploads/2022/09/LoveIncLC_Home_News_2-1.jpg
END:VEVENT
BEGIN:VEVENT
DTSTART;TZID=UTC:20220915T174500
DTEND;TZID=UTC:20220915T200000
DTSTAMP:20260422T172651
CREATED:20220926T230906Z
LAST-MODIFIED:20230120T170546Z
UID:10002442-1663263900-1663272000@loveinclakecounty.org
SUMMARY:New Hope Ministry Fall Connections (learning opportunity)
DESCRIPTION:Get a taste of what New Hope Ministry nights are all about! While our full-length classes are on pause\, we will meet once a month this fall to keep building community. Together\, we’ll explore Love\, Hope\, and Healing. Dinner and childcare are provided. Held at Christian Neighbors Church 222 N County St.\, Waukegan. Any questions? Contact newhope@loveinclakecounty.org or call 847.782.8630 x111.
URL:https://loveinclakecounty.org/event/new-hope-ministry-fall-connections-learning-opportunity/2022-09-15/
LOCATION:Christian Neighbors Church\, 222 N County St\, Waukegan\, IL\, 60085\, United States
CATEGORIES:Learning Opportunity
ATTACH;FMTTYPE=image/jpeg:https://loveinclakecounty.org/wp-content/uploads/2022/09/LoveIncLC_Home_News_2-1.jpg
END:VEVENT
BEGIN:VEVENT
DTSTART;TZID=UTC:20220912T180000
DTEND;TZID=UTC:20220912T203000
DTSTAMP:20260422T172651
CREATED:20220909T011746Z
LAST-MODIFIED:20230108T222805Z
UID:10002439-1663005600-1663014600@loveinclakecounty.org
SUMMARY:Bridges Out of Poverty workshop (learning opportunity)
DESCRIPTION:At The Chapel – Mundelein\, 1966 W. Hawley Street\, Mundelein **be sure you are at the right The Chapel campus!!! ** \nWe are often unaware of the “hidden rules” that govern many aspects of life for us all. People in poverty are often in survival mode\, and support systems taken for granted in middle class and wealth are largely nonexistent. Join us to gain an understanding of differences to help us to build relationships with patience\, generosity\, and without judgment. $20 donation suggested to cover the cost of the book. Register here.
URL:https://loveinclakecounty.org/event/bridges-out-of-poverty-workshop-learning-opportunity/2022-09-12/
LOCATION:The Chapel\, 1966 W Hawley St\, Mundelein\, IL\, 60060\, United States
CATEGORIES:Learning Opportunity
ATTACH;FMTTYPE=image/jpeg:https://loveinclakecounty.org/wp-content/uploads/2022/09/Bridges-graphic-square.jpg
END:VEVENT
END:VCALENDAR