BEGIN:VCALENDAR
VERSION:2.0
PRODID:-//Love INC Lake County - ECPv6.14.2//NONSGML v1.0//EN
CALSCALE:GREGORIAN
METHOD:PUBLISH
X-WR-CALNAME:Love INC Lake County
X-ORIGINAL-URL:https://loveinclakecounty.org
X-WR-CALDESC:Events for Love INC Lake County
REFRESH-INTERVAL;VALUE=DURATION:PT1H
X-Robots-Tag:noindex
X-PUBLISHED-TTL:PT1H
BEGIN:VTIMEZONE
TZID:America/Chicago
BEGIN:DAYLIGHT
TZOFFSETFROM:-0600
TZOFFSETTO:-0500
TZNAME:CDT
DTSTART:20250309T080000
END:DAYLIGHT
BEGIN:STANDARD
TZOFFSETFROM:-0500
TZOFFSETTO:-0600
TZNAME:CST
DTSTART:20251102T070000
END:STANDARD
BEGIN:DAYLIGHT
TZOFFSETFROM:-0600
TZOFFSETTO:-0500
TZNAME:CDT
DTSTART:20260308T080000
END:DAYLIGHT
BEGIN:STANDARD
TZOFFSETFROM:-0500
TZOFFSETTO:-0600
TZNAME:CST
DTSTART:20261101T070000
END:STANDARD
END:VTIMEZONE
BEGIN:VEVENT
DTSTART;VALUE=DATE:20251224
DTEND;VALUE=DATE:20260102
DTSTAMP:20260419T220852
CREATED:20250102T205313Z
LAST-MODIFIED:20251215T201101Z
UID:10002966-1766534400-1767311999@loveinclakecounty.org
SUMMARY:Office and Warehouse Closed For Christmas
DESCRIPTION:Wednesday December 24 through Sunday January 4\, reopening to serve Monday January 5. We will not be accepting donation drop-offs during this time.
URL:https://loveinclakecounty.org/event/office-and-warehouse-closed-for-christmas-2025/
LOCATION:Love INC Office\, 339 Lakewood Ave\, Waukegan\, IL\, 60085\, United States
CATEGORIES:Holiday
ATTACH;FMTTYPE=image/png:https://loveinclakecounty.org/wp-content/uploads/2025/01/Cmas-2024-office-CCsocial.png
END:VEVENT
END:VCALENDAR