BEGIN:VCALENDAR
VERSION:2.0
PRODID:-//Love INC Lake County - ECPv6.14.2//NONSGML v1.0//EN
CALSCALE:GREGORIAN
METHOD:PUBLISH
X-WR-CALNAME:Love INC Lake County
X-ORIGINAL-URL:https://loveinclakecounty.org
X-WR-CALDESC:Events for Love INC Lake County
REFRESH-INTERVAL;VALUE=DURATION:PT1H
X-Robots-Tag:noindex
X-PUBLISHED-TTL:PT1H
BEGIN:VTIMEZONE
TZID:UTC
BEGIN:STANDARD
TZOFFSETFROM:+0000
TZOFFSETTO:+0000
TZNAME:UTC
DTSTART:20250101T000000
END:STANDARD
END:VTIMEZONE
BEGIN:VEVENT
DTSTART;TZID=UTC:20250502T130000
DTEND;TZID=UTC:20250502T150000
DTSTAMP:20260421T132137
CREATED:20250331T182624Z
LAST-MODIFIED:20250331T183155Z
UID:10002984-1746190800-1746198000@loveinclakecounty.org
SUMMARY:Love INC Paint and Chat
DESCRIPTION:Join us for a fun afternoon of fellowship! No artistic experience needed – Linda will guide you step-by-step through a simple design to explore your creative side\, while you get to know your fellow Love INC friends. Light snacks will be provided. Spots are limited to 15 – so sign up at the link below today!
URL:https://loveinclakecounty.org/event/paint-and-chat-2025/
LOCATION:Love INC Office\, 339 Lakewood Ave\, Waukegan\, IL\, 60085\, United States
CATEGORIES:Serving Opportunity
ATTACH;FMTTYPE=image/png:https://loveinclakecounty.org/wp-content/uploads/2025/03/2025-05-Paint-Chat-social.png
END:VEVENT
END:VCALENDAR