BEGIN:VCALENDAR
VERSION:2.0
PRODID:-//Love INC Lake County - ECPv6.14.2//NONSGML v1.0//EN
CALSCALE:GREGORIAN
METHOD:PUBLISH
X-WR-CALNAME:Love INC Lake County
X-ORIGINAL-URL:https://loveinclakecounty.org
X-WR-CALDESC:Events for Love INC Lake County
REFRESH-INTERVAL;VALUE=DURATION:PT1H
X-Robots-Tag:noindex
X-PUBLISHED-TTL:PT1H
BEGIN:VTIMEZONE
TZID:UTC
BEGIN:STANDARD
TZOFFSETFROM:+0000
TZOFFSETTO:+0000
TZNAME:UTC
DTSTART:20250101T000000
END:STANDARD
END:VTIMEZONE
BEGIN:VEVENT
DTSTART;TZID=UTC:20250213T110000
DTEND;TZID=UTC:20250213T130000
DTSTAMP:20260425T065401
CREATED:20250131T212733Z
LAST-MODIFIED:20250131T213030Z
UID:10002975-1739444400-1739451600@loveinclakecounty.org
SUMMARY:Valentine's Sweet Treat
DESCRIPTION:We love our volunteers and think you’re sweet. Join us next week for a special treat! We’ll have yummy cupcakes and a tasty punch\, just the thing to celebrate our Love INC bunch!\nMon Feb 10 through Thur Feb 13 starting at 11:00am.\nStop by once or join us for all four days. We encourage you to wear your Love INC Spirit Wear to really show your love!
URL:https://loveinclakecounty.org/event/valentines-sweet-treat/2025-02-13/
LOCATION:Love INC Office\, 339 Lakewood Ave\, Waukegan\, IL\, 60085\, United States
CATEGORIES:Serving Opportunity
ATTACH;FMTTYPE=image/png:https://loveinclakecounty.org/wp-content/uploads/2025/01/valentine-appr-2025-social.png
END:VEVENT
END:VCALENDAR