BEGIN:VCALENDAR
VERSION:2.0
PRODID:-//Love INC Lake County - ECPv6.14.2//NONSGML v1.0//EN
CALSCALE:GREGORIAN
METHOD:PUBLISH
X-WR-CALNAME:Love INC Lake County
X-ORIGINAL-URL:https://loveinclakecounty.org
X-WR-CALDESC:Events for Love INC Lake County
REFRESH-INTERVAL;VALUE=DURATION:PT1H
X-Robots-Tag:noindex
X-PUBLISHED-TTL:PT1H
BEGIN:VTIMEZONE
TZID:America/Chicago
BEGIN:DAYLIGHT
TZOFFSETFROM:-0600
TZOFFSETTO:-0500
TZNAME:CDT
DTSTART:20250309T080000
END:DAYLIGHT
BEGIN:STANDARD
TZOFFSETFROM:-0500
TZOFFSETTO:-0600
TZNAME:CST
DTSTART:20251102T070000
END:STANDARD
END:VTIMEZONE
BEGIN:VEVENT
DTSTART;TZID=America/Chicago:20251204T173000
DTEND;TZID=America/Chicago:20251204T200000
DTSTAMP:20260420T213058
CREATED:20250806T180302Z
LAST-MODIFIED:20250806T180302Z
UID:10003027-1764869400-1764878400@loveinclakecounty.org
SUMMARY:New Hope Ministry Fall 2025 (learning opportunity)
DESCRIPTION:Join our New Hope Ministry community! Our 12 week course will equip our volunteers to serve within New Hope Ministry. Our New Hope Ministry classes are a chance for us to build community as we learn life skills together over the 12 week session. Each class is designed to restore hope\, to deepen relationships\, and to share the light of Christ in our community. \nClasses this semester include: Affirming Potential\, Boundaries\, Community Bible Study\, and Faith & Finances. More info www.loveinclakecounty.org/new-hope-ministry \nWe meet weekly on Thursdays for 12 weeks\, starting August 28 ending with graduation on December 11. \nDinner and childcare are provided. Learn more or RSVP to Barb here or call 847.782.8630 x111.
URL:https://loveinclakecounty.org/event/new-hope-ministry-fall-2025-learning-opportunity/2025-12-04/
LOCATION:First Presbyterian Church of Waukegan\, 122 N Martin Luther King Jr Ave\, Waukegan\, IL\, 60085\, United States
CATEGORIES:Learning Opportunity
ATTACH;FMTTYPE=image/png:https://loveinclakecounty.org/wp-content/uploads/2024/08/NHM-logo-circle-social.png
END:VEVENT
BEGIN:VEVENT
DTSTART;TZID=America/Chicago:20251211T173000
DTEND;TZID=America/Chicago:20251211T200000
DTSTAMP:20260420T213058
CREATED:20250806T180302Z
LAST-MODIFIED:20250806T180302Z
UID:10003028-1765474200-1765483200@loveinclakecounty.org
SUMMARY:New Hope Ministry Fall 2025 (learning opportunity)
DESCRIPTION:Join our New Hope Ministry community! Our 12 week course will equip our volunteers to serve within New Hope Ministry. Our New Hope Ministry classes are a chance for us to build community as we learn life skills together over the 12 week session. Each class is designed to restore hope\, to deepen relationships\, and to share the light of Christ in our community. \nClasses this semester include: Affirming Potential\, Boundaries\, Community Bible Study\, and Faith & Finances. More info www.loveinclakecounty.org/new-hope-ministry \nWe meet weekly on Thursdays for 12 weeks\, starting August 28 ending with graduation on December 11. \nDinner and childcare are provided. Learn more or RSVP to Barb here or call 847.782.8630 x111.
URL:https://loveinclakecounty.org/event/new-hope-ministry-fall-2025-learning-opportunity/2025-12-11/
LOCATION:First Presbyterian Church of Waukegan\, 122 N Martin Luther King Jr Ave\, Waukegan\, IL\, 60085\, United States
CATEGORIES:Learning Opportunity
ATTACH;FMTTYPE=image/png:https://loveinclakecounty.org/wp-content/uploads/2024/08/NHM-logo-circle-social.png
END:VEVENT
END:VCALENDAR