BEGIN:VCALENDAR
VERSION:2.0
PRODID:-//Love INC Lake County - ECPv6.14.2//NONSGML v1.0//EN
CALSCALE:GREGORIAN
METHOD:PUBLISH
X-WR-CALNAME:Love INC Lake County
X-ORIGINAL-URL:https://loveinclakecounty.org
X-WR-CALDESC:Events for Love INC Lake County
REFRESH-INTERVAL;VALUE=DURATION:PT1H
X-Robots-Tag:noindex
X-PUBLISHED-TTL:PT1H
BEGIN:VTIMEZONE
TZID:America/Chicago
BEGIN:DAYLIGHT
TZOFFSETFROM:-0600
TZOFFSETTO:-0500
TZNAME:CDT
DTSTART:20250309T080000
END:DAYLIGHT
BEGIN:STANDARD
TZOFFSETFROM:-0500
TZOFFSETTO:-0600
TZNAME:CST
DTSTART:20251102T070000
END:STANDARD
END:VTIMEZONE
BEGIN:VTIMEZONE
TZID:UTC
BEGIN:STANDARD
TZOFFSETFROM:+0000
TZOFFSETTO:+0000
TZNAME:UTC
DTSTART:20250101T000000
END:STANDARD
END:VTIMEZONE
BEGIN:VEVENT
DTSTART;TZID=America/Chicago:20251113T173000
DTEND;TZID=America/Chicago:20251113T200000
DTSTAMP:20260421T201753
CREATED:20250806T180302Z
LAST-MODIFIED:20250806T180302Z
UID:10003025-1763055000-1763064000@loveinclakecounty.org
SUMMARY:New Hope Ministry Fall 2025 (learning opportunity)
DESCRIPTION:Join our New Hope Ministry community! Our 12 week course will equip our volunteers to serve within New Hope Ministry. Our New Hope Ministry classes are a chance for us to build community as we learn life skills together over the 12 week session. Each class is designed to restore hope\, to deepen relationships\, and to share the light of Christ in our community. \nClasses this semester include: Affirming Potential\, Boundaries\, Community Bible Study\, and Faith & Finances. More info www.loveinclakecounty.org/new-hope-ministry \nWe meet weekly on Thursdays for 12 weeks\, starting August 28 ending with graduation on December 11. \nDinner and childcare are provided. Learn more or RSVP to Barb here or call 847.782.8630 x111.
URL:https://loveinclakecounty.org/event/new-hope-ministry-fall-2025-learning-opportunity/2025-11-13/
LOCATION:First Presbyterian Church of Waukegan\, 122 N Martin Luther King Jr Ave\, Waukegan\, IL\, 60085\, United States
CATEGORIES:Learning Opportunity
ATTACH;FMTTYPE=image/png:https://loveinclakecounty.org/wp-content/uploads/2024/08/NHM-logo-circle-social.png
END:VEVENT
BEGIN:VEVENT
DTSTART;TZID=UTC:20251115T093000
DTEND;TZID=UTC:20251115T110000
DTSTAMP:20260421T201753
CREATED:20241219T175954Z
LAST-MODIFIED:20241219T175954Z
UID:10002932-1763199000-1763204400@loveinclakecounty.org
SUMMARY:Love INC Volunteer Orientation (serving opportunity)
DESCRIPTION:Learn more about why we serve the way we do and how you might share your God-given talents through the ministries of Love INC’s partner churches. Share and help us spread the word! RSVP via this form.
URL:https://loveinclakecounty.org/event/love-inc-volunteer-orientation-serving-opportunity-30/
LOCATION:Love INC Office\, 339 Lakewood Ave\, Waukegan\, IL\, 60085\, United States
CATEGORIES:Serving Opportunity
ATTACH;FMTTYPE=image/png:https://loveinclakecounty.org/wp-content/uploads/2023/01/Vol-Orient_general-social.png
END:VEVENT
BEGIN:VEVENT
DTSTART;TZID=America/Chicago:20251120T173000
DTEND;TZID=America/Chicago:20251120T200000
DTSTAMP:20260421T201753
CREATED:20250806T180302Z
LAST-MODIFIED:20250806T180302Z
UID:10003026-1763659800-1763668800@loveinclakecounty.org
SUMMARY:New Hope Ministry Fall 2025 (learning opportunity)
DESCRIPTION:Join our New Hope Ministry community! Our 12 week course will equip our volunteers to serve within New Hope Ministry. Our New Hope Ministry classes are a chance for us to build community as we learn life skills together over the 12 week session. Each class is designed to restore hope\, to deepen relationships\, and to share the light of Christ in our community. \nClasses this semester include: Affirming Potential\, Boundaries\, Community Bible Study\, and Faith & Finances. More info www.loveinclakecounty.org/new-hope-ministry \nWe meet weekly on Thursdays for 12 weeks\, starting August 28 ending with graduation on December 11. \nDinner and childcare are provided. Learn more or RSVP to Barb here or call 847.782.8630 x111.
URL:https://loveinclakecounty.org/event/new-hope-ministry-fall-2025-learning-opportunity/2025-11-20/
LOCATION:First Presbyterian Church of Waukegan\, 122 N Martin Luther King Jr Ave\, Waukegan\, IL\, 60085\, United States
CATEGORIES:Learning Opportunity
ATTACH;FMTTYPE=image/png:https://loveinclakecounty.org/wp-content/uploads/2024/08/NHM-logo-circle-social.png
END:VEVENT
END:VCALENDAR