BEGIN:VCALENDAR
VERSION:2.0
PRODID:-//Love INC Lake County - ECPv6.14.2//NONSGML v1.0//EN
CALSCALE:GREGORIAN
METHOD:PUBLISH
X-WR-CALNAME:Love INC Lake County
X-ORIGINAL-URL:https://loveinclakecounty.org
X-WR-CALDESC:Events for Love INC Lake County
REFRESH-INTERVAL;VALUE=DURATION:PT1H
X-Robots-Tag:noindex
X-PUBLISHED-TTL:PT1H
BEGIN:VTIMEZONE
TZID:UTC
BEGIN:STANDARD
TZOFFSETFROM:+0000
TZOFFSETTO:+0000
TZNAME:UTC
DTSTART:20260101T000000
END:STANDARD
END:VTIMEZONE
BEGIN:VEVENT
DTSTART;TZID=UTC:20260115T103000
DTEND;TZID=UTC:20260115T120000
DTSTAMP:20260420T033540
CREATED:20251119T163007Z
LAST-MODIFIED:20251119T163146Z
UID:10003051-1768473000-1768478400@loveinclakecounty.org
SUMMARY:Love INC Volunteer Orientation (serving opportunity)
DESCRIPTION:Learn more about why we serve the way we do and how you might share your God-given talents through the ministries of Love INC’s partner churches. Share and help us spread the word! RSVP via this form.
URL:https://loveinclakecounty.org/event/love-inc-volunteer-orientation-serving-opportunity-37/
LOCATION:Love INC Office\, 339 Lakewood Ave\, Waukegan\, IL\, 60085\, United States
CATEGORIES:Serving Opportunity
ATTACH;FMTTYPE=image/png:https://loveinclakecounty.org/wp-content/uploads/2025/11/Vol-Orient_Instagram-reception.png
END:VEVENT
BEGIN:VEVENT
DTSTART;TZID=UTC:20260131T083000
DTEND;TZID=UTC:20260131T100000
DTSTAMP:20260420T033540
CREATED:20251215T200439Z
LAST-MODIFIED:20251215T200439Z
UID:10003052-1769848200-1769853600@loveinclakecounty.org
SUMMARY:All Hands Furniture Team Meeting (learning opportunity)
DESCRIPTION:Do you currently serve on a furniture team? Have you served in the past and want to get reconnected? New to the furniture ministry & want to know what it’s all about? Join us for an All Hands Furniture Team meeting as we kick off the new year – learning how the furniture ministry fits into Love INC’s overall mission and collaborating on how we can continue to serve better.
URL:https://loveinclakecounty.org/event/all-hands-furniture-team-meeting-jan26/
LOCATION:Love INC Office\, 339 Lakewood Ave\, Waukegan\, IL\, 60085\, United States
CATEGORIES:Learning Opportunity
ATTACH;FMTTYPE=image/png:https://loveinclakecounty.org/wp-content/uploads/2025/12/All-Hands-Furniture-Team-Meeting-Social-Media.png
END:VEVENT
END:VCALENDAR