BEGIN:VCALENDAR
VERSION:2.0
PRODID:-//Love INC Lake County - ECPv6.14.2//NONSGML v1.0//EN
CALSCALE:GREGORIAN
METHOD:PUBLISH
X-WR-CALNAME:Love INC Lake County
X-ORIGINAL-URL:https://loveinclakecounty.org
X-WR-CALDESC:Events for Love INC Lake County
REFRESH-INTERVAL;VALUE=DURATION:PT1H
X-Robots-Tag:noindex
X-PUBLISHED-TTL:PT1H
BEGIN:VTIMEZONE
TZID:America/Chicago
BEGIN:DAYLIGHT
TZOFFSETFROM:-0600
TZOFFSETTO:-0500
TZNAME:CDT
DTSTART:20230312T080000
END:DAYLIGHT
BEGIN:STANDARD
TZOFFSETFROM:-0500
TZOFFSETTO:-0600
TZNAME:CST
DTSTART:20231105T070000
END:STANDARD
END:VTIMEZONE
BEGIN:VEVENT
DTSTART;TZID=America/Chicago:20230715T110000
DTEND;TZID=America/Chicago:20230715T150000
DTSTAMP:20260420T094253
CREATED:20230509T211006Z
LAST-MODIFIED:20230522T170245Z
UID:10002784-1689418800-1689433200@loveinclakecounty.org
SUMMARY:New Hope Ministry Community Picnic (learning opportunity)
DESCRIPTION:We love our New Hope Ministry community! We’ve worked hard all semester and now is a chance for us to simply fellowship together. The main course will be provided\, please bring a side or dessert to share. Please register through this link. While you are at it\, let us know what dish you’ll bring and check out the volunteer opportunities too! Any other questions? Contact Barb at newhope@loveinclakecounty.org or call 847.782.8630 x111.
URL:https://loveinclakecounty.org/event/new-hope-community-picnic-learning-opportunity/
LOCATION:Bowen Park\, 1800 N. Sheridan Road\, Waukegan\, 60085
CATEGORIES:Learning Opportunity
ATTACH;FMTTYPE=image/png:https://loveinclakecounty.org/wp-content/uploads/2023/05/NHM-2023-Community-Picnic-Social.png
END:VEVENT
END:VCALENDAR