BEGIN:VCALENDAR
VERSION:2.0
PRODID:-//Love INC Lake County - ECPv6.14.2//NONSGML v1.0//EN
CALSCALE:GREGORIAN
METHOD:PUBLISH
X-ORIGINAL-URL:https://loveinclakecounty.org
X-WR-CALDESC:Events for Love INC Lake County
REFRESH-INTERVAL;VALUE=DURATION:PT1H
X-Robots-Tag:noindex
X-PUBLISHED-TTL:PT1H
BEGIN:VTIMEZONE
TZID:America/Chicago
BEGIN:DAYLIGHT
TZOFFSETFROM:-0600
TZOFFSETTO:-0500
TZNAME:CDT
DTSTART:20250309T080000
END:DAYLIGHT
BEGIN:STANDARD
TZOFFSETFROM:-0500
TZOFFSETTO:-0600
TZNAME:CST
DTSTART:20251102T070000
END:STANDARD
END:VTIMEZONE
BEGIN:VEVENT
DTSTART;TZID=America/Chicago:20251106T180000
DTEND;TZID=America/Chicago:20251106T210000
DTSTAMP:20260420T212656
CREATED:20250509T180743Z
LAST-MODIFIED:20250908T193029Z
UID:10002985-1762452000-1762462800@loveinclakecounty.org
SUMMARY:2025 Dinner & Auction
DESCRIPTION:Dinner & Auction Tickets Available Now!\nThursday\, November 6\, 2025\nAt the lovely Chevy Chase Country Club in Wheeling\, IL\nSocial Hour 6:00 pm\, Dinner & Program 7:00 pm\nDressy Casual Attire Suggested \nTogether with 350 of our closest friends\, we will celebrate the work of the 80+ churches in our Love INC community\, as well as ponder the question in Esther 4:14\, “Perhaps you were made royal for a time such as this?” How is God calling us in this season? \nOrder individual tickets\, tables\, and sponsorships online here. Live auction and raffle packages to be announced soon! \nNot on our mailing list? Sign up for our emails at the bottom of our website or contact us to share your address for some good old fashioned mailed information.
URL:https://loveinclakecounty.org/event/2025-dinner-auction/
LOCATION:Chevy Chase Country Club\, 1000 N Milwaukee Ave.\, Wheeling\, IL\, 60090\, United States
CATEGORIES:Fundraiser
ATTACH;FMTTYPE=image/png:https://loveinclakecounty.org/wp-content/uploads/2025/09/Love-INC-D-A-2025-social.png
END:VEVENT
END:VCALENDAR