BEGIN:VCALENDAR
VERSION:2.0
PRODID:-//Love INC Lake County - ECPv6.14.2//NONSGML v1.0//EN
CALSCALE:GREGORIAN
METHOD:PUBLISH
X-ORIGINAL-URL:https://loveinclakecounty.org
X-WR-CALDESC:Events for Love INC Lake County
REFRESH-INTERVAL;VALUE=DURATION:PT1H
X-Robots-Tag:noindex
X-PUBLISHED-TTL:PT1H
BEGIN:VTIMEZONE
TZID:America/Chicago
BEGIN:DAYLIGHT
TZOFFSETFROM:-0600
TZOFFSETTO:-0500
TZNAME:CDT
DTSTART:20230312T080000
END:DAYLIGHT
BEGIN:STANDARD
TZOFFSETFROM:-0500
TZOFFSETTO:-0600
TZNAME:CST
DTSTART:20231105T070000
END:STANDARD
END:VTIMEZONE
BEGIN:VEVENT
DTSTART;TZID=America/Chicago:20231006T180000
DTEND;TZID=America/Chicago:20231006T210000
DTSTAMP:20260420T063917
CREATED:20230707T165124Z
LAST-MODIFIED:20230719T212605Z
UID:10002792-1696615200-1696626000@loveinclakecounty.org
SUMMARY:2023 Dinner & Auction
DESCRIPTION:We are back in person! At a new location! Save the date for Friday October 6th\, 2023 when we will gather at the beautiful Cuneo Mansion & Gardens in Vernon Hills for our re-started Annual Dinner & Auction. This year we’ll kick off our 30th Anniversary with “A Heartful Harvest: Gathering 30 Years of Love!”. Sponsorships now available\, ticket sales begin in August. More info: www.loveinclakecounty.org/2023DinnerAuction
URL:https://loveinclakecounty.org/event/2023-dinner-and-auction/
LOCATION:Cuneo Mansion & Gardens\, 1350 N. Milwaukee Ave\, Vernon Hills\, 60061
CATEGORIES:Fundraiser
ATTACH;FMTTYPE=image/png:https://loveinclakecounty.org/wp-content/uploads/2023/07/Love-INC-Save-the-Date-social.png
END:VEVENT
END:VCALENDAR