BEGIN:VCALENDAR
VERSION:2.0
PRODID:-//Love INC Lake County - ECPv6.14.2//NONSGML v1.0//EN
CALSCALE:GREGORIAN
METHOD:PUBLISH
X-WR-CALNAME:Love INC Lake County
X-ORIGINAL-URL:https://loveinclakecounty.org
X-WR-CALDESC:Events for Love INC Lake County
REFRESH-INTERVAL;VALUE=DURATION:PT1H
X-Robots-Tag:noindex
X-PUBLISHED-TTL:PT1H
BEGIN:VTIMEZONE
TZID:UTC
BEGIN:STANDARD
TZOFFSETFROM:+0000
TZOFFSETTO:+0000
TZNAME:UTC
DTSTART:20250101T000000
END:STANDARD
END:VTIMEZONE
BEGIN:VTIMEZONE
TZID:America/Chicago
BEGIN:DAYLIGHT
TZOFFSETFROM:-0600
TZOFFSETTO:-0500
TZNAME:CDT
DTSTART:20250309T080000
END:DAYLIGHT
BEGIN:STANDARD
TZOFFSETFROM:-0500
TZOFFSETTO:-0600
TZNAME:CST
DTSTART:20251102T070000
END:STANDARD
BEGIN:DAYLIGHT
TZOFFSETFROM:-0600
TZOFFSETTO:-0500
TZNAME:CDT
DTSTART:20260308T080000
END:DAYLIGHT
BEGIN:STANDARD
TZOFFSETFROM:-0500
TZOFFSETTO:-0600
TZNAME:CST
DTSTART:20261101T070000
END:STANDARD
END:VTIMEZONE
BEGIN:VEVENT
DTSTART;TZID=UTC:20260414T103000
DTEND;TZID=UTC:20260414T120000
DTSTAMP:20260419T134646
CREATED:20260325T152354Z
LAST-MODIFIED:20260325T152354Z
UID:10003064-1776162600-1776168000@loveinclakecounty.org
SUMMARY:Love INC Volunteer Orientation (serving opportunity)
DESCRIPTION:Learn more about why we serve the way we do and how you might share your God-given talents through the ministries of Love INC’s partner churches. Share and help us spread the word! RSVP via this form.
URL:https://loveinclakecounty.org/event/love-inc-volunteer-orientation-serving-opportunity-40/
LOCATION:Love INC Office\, 339 Lakewood Ave\, Waukegan\, IL\, 60085\, United States
CATEGORIES:Serving Opportunity
ATTACH;FMTTYPE=image/png:https://loveinclakecounty.org/wp-content/uploads/2025/11/Vol-Orient_Instagram-reception.png
END:VEVENT
BEGIN:VEVENT
DTSTART;VALUE=DATE:20260403
DTEND;VALUE=DATE:20260405
DTSTAMP:20260419T134646
CREATED:20260227T171311Z
LAST-MODIFIED:20260330T172403Z
UID:10003059-1775174400-1775347199@loveinclakecounty.org
SUMMARY:Closed For Good Friday
DESCRIPTION:Our office and warehouse are closed for Good Friday. Loved Twice Thrift Boutique will be closed Friday and Saturday for the Easter weekend.
URL:https://loveinclakecounty.org/event/closed-for-good-friday/
LOCATION:Love INC Office\, 339 Lakewood Ave\, Waukegan\, IL\, 60085\, United States
CATEGORIES:Holiday
ATTACH;FMTTYPE=image/png:https://loveinclakecounty.org/wp-content/uploads/2025/01/easter-good-friday.png
END:VEVENT
BEGIN:VEVENT
DTSTART;TZID=UTC:20260302T103000
DTEND;TZID=UTC:20260302T120000
DTSTAMP:20260419T134646
CREATED:20260227T170249Z
LAST-MODIFIED:20260227T170249Z
UID:10003058-1772447400-1772452800@loveinclakecounty.org
SUMMARY:Love INC Volunteer Orientation (serving opportunity)
DESCRIPTION:Learn more about why we serve the way we do and how you might share your God-given talents through the ministries of Love INC’s partner churches. Share and help us spread the word! RSVP via this form.
URL:https://loveinclakecounty.org/event/love-inc-volunteer-orientation-serving-opportunity-39/
LOCATION:Love INC Office\, 339 Lakewood Ave\, Waukegan\, IL\, 60085\, United States
CATEGORIES:Serving Opportunity
ATTACH;FMTTYPE=image/png:https://loveinclakecounty.org/wp-content/uploads/2025/11/Vol-Orient_Instagram-reception.png
END:VEVENT
BEGIN:VEVENT
DTSTART;TZID=UTC:20260217T103000
DTEND;TZID=UTC:20260217T120000
DTSTAMP:20260419T134646
CREATED:20260120T234148Z
LAST-MODIFIED:20260120T234148Z
UID:10003053-1771324200-1771329600@loveinclakecounty.org
SUMMARY:Love INC Volunteer Orientation (serving opportunity)
DESCRIPTION:Learn more about why we serve the way we do and how you might share your God-given talents through the ministries of Love INC’s partner churches. Share and help us spread the word! RSVP via this form.
URL:https://loveinclakecounty.org/event/love-inc-volunteer-orientation-serving-opportunity-38/
LOCATION:Love INC Office\, 339 Lakewood Ave\, Waukegan\, IL\, 60085\, United States
CATEGORIES:Serving Opportunity
ATTACH;FMTTYPE=image/png:https://loveinclakecounty.org/wp-content/uploads/2025/11/Vol-Orient_Instagram-reception.png
END:VEVENT
BEGIN:VEVENT
DTSTART;TZID=UTC:20260209T110000
DTEND;TZID=UTC:20260212T130000
DTSTAMP:20260419T134646
CREATED:20260126T190424Z
LAST-MODIFIED:20260126T190456Z
UID:10003057-1770634800-1770901200@loveinclakecounty.org
SUMMARY:Love Is On the Menu! Valentine's Lunch
DESCRIPTION:We love our volunteers! Join us for a Valentine’s Day Week Volunteer Appreciation Sub Bar Lunch and Fellowship! We’ll serve ham & turkey\, veggies\, lettuce wraps\, chips\, and our infamous Love Potion Punch\, feel free to bring a dessert to share. Any questions? Email Linda at vdc@loveinclakecounty.org.
URL:https://loveinclakecounty.org/event/love-is-on-the-menu-valentines-lunch-2/
LOCATION:Love INC Office\, 339 Lakewood Ave\, Waukegan\, IL\, 60085\, United States
CATEGORIES:Serving Opportunity
ATTACH;FMTTYPE=image/png:https://loveinclakecounty.org/wp-content/uploads/2026/01/Valentine-Vol-Appreciation-2026-social.png
END:VEVENT
BEGIN:VEVENT
DTSTART;TZID=UTC:20260131T083000
DTEND;TZID=UTC:20260131T100000
DTSTAMP:20260419T134646
CREATED:20251215T200439Z
LAST-MODIFIED:20251215T200439Z
UID:10003052-1769848200-1769853600@loveinclakecounty.org
SUMMARY:All Hands Furniture Team Meeting (learning opportunity)
DESCRIPTION:Do you currently serve on a furniture team? Have you served in the past and want to get reconnected? New to the furniture ministry & want to know what it’s all about? Join us for an All Hands Furniture Team meeting as we kick off the new year – learning how the furniture ministry fits into Love INC’s overall mission and collaborating on how we can continue to serve better.
URL:https://loveinclakecounty.org/event/all-hands-furniture-team-meeting-jan26/
LOCATION:Love INC Office\, 339 Lakewood Ave\, Waukegan\, IL\, 60085\, United States
CATEGORIES:Learning Opportunity
ATTACH;FMTTYPE=image/png:https://loveinclakecounty.org/wp-content/uploads/2025/12/All-Hands-Furniture-Team-Meeting-Social-Media.png
END:VEVENT
BEGIN:VEVENT
DTSTART;TZID=UTC:20260115T103000
DTEND;TZID=UTC:20260115T120000
DTSTAMP:20260419T134646
CREATED:20251119T163007Z
LAST-MODIFIED:20251119T163146Z
UID:10003051-1768473000-1768478400@loveinclakecounty.org
SUMMARY:Love INC Volunteer Orientation (serving opportunity)
DESCRIPTION:Learn more about why we serve the way we do and how you might share your God-given talents through the ministries of Love INC’s partner churches. Share and help us spread the word! RSVP via this form.
URL:https://loveinclakecounty.org/event/love-inc-volunteer-orientation-serving-opportunity-37/
LOCATION:Love INC Office\, 339 Lakewood Ave\, Waukegan\, IL\, 60085\, United States
CATEGORIES:Serving Opportunity
ATTACH;FMTTYPE=image/png:https://loveinclakecounty.org/wp-content/uploads/2025/11/Vol-Orient_Instagram-reception.png
END:VEVENT
BEGIN:VEVENT
DTSTART;VALUE=DATE:20251224
DTEND;VALUE=DATE:20260102
DTSTAMP:20260419T134646
CREATED:20250102T205313Z
LAST-MODIFIED:20251215T201101Z
UID:10002966-1766534400-1767311999@loveinclakecounty.org
SUMMARY:Office and Warehouse Closed For Christmas
DESCRIPTION:Wednesday December 24 through Sunday January 4\, reopening to serve Monday January 5. We will not be accepting donation drop-offs during this time.
URL:https://loveinclakecounty.org/event/office-and-warehouse-closed-for-christmas-2025/
LOCATION:Love INC Office\, 339 Lakewood Ave\, Waukegan\, IL\, 60085\, United States
CATEGORIES:Holiday
ATTACH;FMTTYPE=image/png:https://loveinclakecounty.org/wp-content/uploads/2025/01/Cmas-2024-office-CCsocial.png
END:VEVENT
BEGIN:VEVENT
DTSTART;VALUE=DATE:20251127
DTEND;VALUE=DATE:20251129
DTSTAMP:20260419T134646
CREATED:20250102T205046Z
LAST-MODIFIED:20251119T234053Z
UID:10002965-1764201600-1764374399@loveinclakecounty.org
SUMMARY:Closed for Thanksgiving
DESCRIPTION:The Love INC office & Loved Twice Thrift Boutique will be closed Thursday November 27 thru Saturday November 29 for the Thanksgiving holiday. \nLoved Twice will be open for your holiday shopping on Wednesday November 26.
URL:https://loveinclakecounty.org/event/closed-for-thanksgiving-2025/
LOCATION:Love INC Office\, 339 Lakewood Ave\, Waukegan\, IL\, 60085\, United States
CATEGORIES:Holiday
ATTACH;FMTTYPE=image/png:https://loveinclakecounty.org/wp-content/uploads/2025/01/Thx-2024-social.png
END:VEVENT
BEGIN:VEVENT
DTSTART;TZID=UTC:20251115T093000
DTEND;TZID=UTC:20251115T110000
DTSTAMP:20260419T134646
CREATED:20241219T175954Z
LAST-MODIFIED:20241219T175954Z
UID:10002932-1763199000-1763204400@loveinclakecounty.org
SUMMARY:Love INC Volunteer Orientation (serving opportunity)
DESCRIPTION:Learn more about why we serve the way we do and how you might share your God-given talents through the ministries of Love INC’s partner churches. Share and help us spread the word! RSVP via this form.
URL:https://loveinclakecounty.org/event/love-inc-volunteer-orientation-serving-opportunity-30/
LOCATION:Love INC Office\, 339 Lakewood Ave\, Waukegan\, IL\, 60085\, United States
CATEGORIES:Serving Opportunity
ATTACH;FMTTYPE=image/png:https://loveinclakecounty.org/wp-content/uploads/2023/01/Vol-Orient_general-social.png
END:VEVENT
BEGIN:VEVENT
DTSTART;TZID=UTC:20251014T183000
DTEND;TZID=UTC:20251014T200000
DTSTAMP:20260419T134646
CREATED:20241219T180207Z
LAST-MODIFIED:20241219T180207Z
UID:10002937-1760466600-1760472000@loveinclakecounty.org
SUMMARY:Love INC Volunteer Orientation (serving opportunity)
DESCRIPTION:Learn more about why we serve the way we do and how you might share your God-given talents through the ministries of Love INC’s partner churches. Share and help us spread the word! RSVP via this form.
URL:https://loveinclakecounty.org/event/love-inc-volunteer-orientation-serving-opportunity-35/
LOCATION:Love INC Office\, 339 Lakewood Ave\, Waukegan\, IL\, 60085\, United States
CATEGORIES:Serving Opportunity
ATTACH;FMTTYPE=image/png:https://loveinclakecounty.org/wp-content/uploads/2023/01/Vol-Orient_general-social.png
END:VEVENT
BEGIN:VEVENT
DTSTART;TZID=UTC:20250930T103000
DTEND;TZID=UTC:20250930T120000
DTSTAMP:20260419T134646
CREATED:20250905T190110Z
LAST-MODIFIED:20250905T190110Z
UID:10003050-1759228200-1759233600@loveinclakecounty.org
SUMMARY:Love INC Volunteer Orientation (serving opportunity)
DESCRIPTION:Learn more about why we serve the way we do and how you might share your God-given talents through the ministries of Love INC’s partner churches. Share and help us spread the word! RSVP via this form.
URL:https://loveinclakecounty.org/event/love-inc-volunteer-orientation-serving-opportunity-36/
LOCATION:Love INC Office\, 339 Lakewood Ave\, Waukegan\, IL\, 60085\, United States
CATEGORIES:Serving Opportunity
ATTACH;FMTTYPE=image/png:https://loveinclakecounty.org/wp-content/uploads/2023/01/Vol-Orient_general-social.png
END:VEVENT
BEGIN:VEVENT
DTSTART;TZID=UTC:20250913T093000
DTEND;TZID=UTC:20250913T110000
DTSTAMP:20260419T134646
CREATED:20241219T175936Z
LAST-MODIFIED:20241219T175936Z
UID:10002931-1757755800-1757761200@loveinclakecounty.org
SUMMARY:Love INC Volunteer Orientation (serving opportunity)
DESCRIPTION:Learn more about why we serve the way we do and how you might share your God-given talents through the ministries of Love INC’s partner churches. Share and help us spread the word! RSVP via this form.
URL:https://loveinclakecounty.org/event/love-inc-volunteer-orientation-serving-opportunity-29/
LOCATION:Love INC Office\, 339 Lakewood Ave\, Waukegan\, IL\, 60085\, United States
CATEGORIES:Serving Opportunity
ATTACH;FMTTYPE=image/png:https://loveinclakecounty.org/wp-content/uploads/2023/01/Vol-Orient_general-social.png
END:VEVENT
BEGIN:VEVENT
DTSTART;TZID=UTC:20250823T113000
DTEND;TZID=UTC:20250823T140000
DTSTAMP:20260419T134646
CREATED:20250102T205717Z
LAST-MODIFIED:20250131T213127Z
UID:10002967-1755948600-1755957600@loveinclakecounty.org
SUMMARY:Taste of Love INC Summer Picnic & Cook-Off
DESCRIPTION:SAVE THE DATE! Join us for fun and fellowship as we celebrate our volunteers and partner churches. Main course provided – please bring a dish to share for our annual Taste of Love INC cook-off! Prizes for favorite salad\, side\, and dessert. RSVP [link to come] to let us know how many of your family & friends can join us!
URL:https://loveinclakecounty.org/event/taste-of-love-inc-summer-picnic-cook-off-2025/
LOCATION:Love INC Office\, 339 Lakewood Ave\, Waukegan\, IL\, 60085\, United States
CATEGORIES:Serving Opportunity
END:VEVENT
BEGIN:VEVENT
DTSTART;TZID=UTC:20250811T183000
DTEND;TZID=UTC:20250811T200000
DTSTAMP:20260419T134646
CREATED:20241219T180147Z
LAST-MODIFIED:20241219T180147Z
UID:10002936-1754937000-1754942400@loveinclakecounty.org
SUMMARY:Love INC Volunteer Orientation (serving opportunity)
DESCRIPTION:Learn more about why we serve the way we do and how you might share your God-given talents through the ministries of Love INC’s partner churches. Share and help us spread the word! RSVP via this form.
URL:https://loveinclakecounty.org/event/love-inc-volunteer-orientation-serving-opportunity-34/
LOCATION:Love INC Office\, 339 Lakewood Ave\, Waukegan\, IL\, 60085\, United States
CATEGORIES:Serving Opportunity
ATTACH;FMTTYPE=image/png:https://loveinclakecounty.org/wp-content/uploads/2023/01/Vol-Orient_general-social.png
END:VEVENT
BEGIN:VEVENT
DTSTART;TZID=UTC:20250712T093000
DTEND;TZID=UTC:20250712T110000
DTSTAMP:20260419T134646
CREATED:20241219T175914Z
LAST-MODIFIED:20241219T175914Z
UID:10002930-1752312600-1752318000@loveinclakecounty.org
SUMMARY:Love INC Volunteer Orientation (serving opportunity)
DESCRIPTION:Learn more about why we serve the way we do and how you might share your God-given talents through the ministries of Love INC’s partner churches. Share and help us spread the word! RSVP via this form.
URL:https://loveinclakecounty.org/event/love-inc-volunteer-orientation-serving-opportunity-28/
LOCATION:Love INC Office\, 339 Lakewood Ave\, Waukegan\, IL\, 60085\, United States
CATEGORIES:Serving Opportunity
ATTACH;FMTTYPE=image/png:https://loveinclakecounty.org/wp-content/uploads/2023/01/Vol-Orient_general-social.png
END:VEVENT
BEGIN:VEVENT
DTSTART;TZID=America/Chicago:20250614T100000
DTEND;TZID=America/Chicago:20250614T120000
DTSTAMP:20260419T134646
CREATED:20250522T171852Z
LAST-MODIFIED:20250529T200818Z
UID:10002986-1749895200-1749902400@loveinclakecounty.org
SUMMARY:New Hope Ministry Workshop: Car Maintenance (learning opportunity)
DESCRIPTION:Join us for this one day workshop! Learn basics of how to keep your car running smoothly\, how to do simple maintenance yourself\, and when to take it to the shop. \nSaturday June 14\, 10:00am-noon **updated date** \nNo childcare provided \nAt Love INC of Lake County\, 339 Lakewood Ave.\, Waukegan \nRSVP via www.bit.ly/CarMaint25 or contact Barb at newhope@loveinclakecounty.org \n 
URL:https://loveinclakecounty.org/event/new-hope-ministry-workshop-car-maintenance-learning-opportunity/
LOCATION:Love INC Office\, 339 Lakewood Ave\, Waukegan\, IL\, 60085\, United States
CATEGORIES:Learning Opportunity
ATTACH;FMTTYPE=image/png:https://loveinclakecounty.org/wp-content/uploads/2024/08/NHM-logo-circle-social.png
END:VEVENT
BEGIN:VEVENT
DTSTART;TZID=UTC:20250612T183000
DTEND;TZID=UTC:20250612T200000
DTSTAMP:20260419T134646
CREATED:20241219T180124Z
LAST-MODIFIED:20241219T180124Z
UID:10002935-1749753000-1749758400@loveinclakecounty.org
SUMMARY:Love INC Volunteer Orientation (serving opportunity)
DESCRIPTION:Learn more about why we serve the way we do and how you might share your God-given talents through the ministries of Love INC’s partner churches. Share and help us spread the word! RSVP via this form.
URL:https://loveinclakecounty.org/event/love-inc-volunteer-orientation-serving-opportunity-33/
LOCATION:Love INC Office\, 339 Lakewood Ave\, Waukegan\, IL\, 60085\, United States
CATEGORIES:Serving Opportunity
ATTACH;FMTTYPE=image/png:https://loveinclakecounty.org/wp-content/uploads/2023/01/Vol-Orient_general-social.png
END:VEVENT
BEGIN:VEVENT
DTSTART;TZID=UTC:20250510T093000
DTEND;TZID=UTC:20250510T110000
DTSTAMP:20260419T134646
CREATED:20241219T175844Z
LAST-MODIFIED:20241219T175844Z
UID:10002929-1746869400-1746874800@loveinclakecounty.org
SUMMARY:Love INC Volunteer Orientation (serving opportunity)
DESCRIPTION:Learn more about why we serve the way we do and how you might share your God-given talents through the ministries of Love INC’s partner churches. Share and help us spread the word! RSVP via this form.
URL:https://loveinclakecounty.org/event/love-inc-volunteer-orientation-serving-opportunity-27/
LOCATION:Love INC Office\, 339 Lakewood Ave\, Waukegan\, IL\, 60085\, United States
CATEGORIES:Serving Opportunity
ATTACH;FMTTYPE=image/png:https://loveinclakecounty.org/wp-content/uploads/2023/01/Vol-Orient_general-social.png
END:VEVENT
BEGIN:VEVENT
DTSTART;TZID=UTC:20250502T130000
DTEND;TZID=UTC:20250502T150000
DTSTAMP:20260419T134646
CREATED:20250331T182624Z
LAST-MODIFIED:20250331T183155Z
UID:10002984-1746190800-1746198000@loveinclakecounty.org
SUMMARY:Love INC Paint and Chat
DESCRIPTION:Join us for a fun afternoon of fellowship! No artistic experience needed – Linda will guide you step-by-step through a simple design to explore your creative side\, while you get to know your fellow Love INC friends. Light snacks will be provided. Spots are limited to 15 – so sign up at the link below today!
URL:https://loveinclakecounty.org/event/paint-and-chat-2025/
LOCATION:Love INC Office\, 339 Lakewood Ave\, Waukegan\, IL\, 60085\, United States
CATEGORIES:Serving Opportunity
ATTACH;FMTTYPE=image/png:https://loveinclakecounty.org/wp-content/uploads/2025/03/2025-05-Paint-Chat-social.png
END:VEVENT
BEGIN:VEVENT
DTSTART;TZID=UTC:20250424T113000
DTEND;TZID=UTC:20250424T133000
DTSTAMP:20260419T134646
CREATED:20250331T181602Z
LAST-MODIFIED:20250331T181856Z
UID:10002983-1745494200-1745501400@loveinclakecounty.org
SUMMARY:Love INC Volunteers are 'Spud-tacular' Lunch
DESCRIPTION:Join us for a Volunteer Appreciation Baked Potato Bar! We’ll provide baked potatoes and a variety of toppings\, feel free to bring a dessert to share. Any questions? Email us at info@loveinclakecounty.org.
URL:https://loveinclakecounty.org/event/love-inc-volunteers-are-spud-tacular-lunch/2025-04-24/
LOCATION:Love INC Office\, 339 Lakewood Ave\, Waukegan\, IL\, 60085\, United States
CATEGORIES:Serving Opportunity
ATTACH;FMTTYPE=image/png:https://loveinclakecounty.org/wp-content/uploads/2025/03/Vol-Appr-2025-Social-Media-v2.png
END:VEVENT
BEGIN:VEVENT
DTSTART;TZID=UTC:20250423T113000
DTEND;TZID=UTC:20250423T133000
DTSTAMP:20260419T134646
CREATED:20260410T155543Z
LAST-MODIFIED:20260410T155543Z
UID:10003067-1745407800-1745415000@loveinclakecounty.org
SUMMARY:Love INC Volunteers Appreciation Week
DESCRIPTION:Thank you for ‘popping in’ to serve! Join us for a Volunteer Appreciation Popcorn Bar to celebrate National Volunteer Appreciation Week\, Mon April 20 thru Thur April 23 starting at 11:30am. Any questions? Email us at info@loveinclakecounty.org.
URL:https://loveinclakecounty.org/event/love-inc-volunteers-appreciation-week/2025-04-23/
LOCATION:Love INC Office\, 339 Lakewood Ave\, Waukegan\, IL\, 60085\, United States
CATEGORIES:Serving Opportunity
ATTACH;FMTTYPE=image/png:https://loveinclakecounty.org/wp-content/uploads/2026/04/Vol-Appr-2026-social.png
END:VEVENT
BEGIN:VEVENT
DTSTART;TZID=UTC:20250423T113000
DTEND;TZID=UTC:20250423T133000
DTSTAMP:20260419T134646
CREATED:20260126T190352Z
LAST-MODIFIED:20260126T190352Z
UID:10003056-1745407800-1745415000@loveinclakecounty.org
SUMMARY:Love Is On the Menu! Valentine's Lunch
DESCRIPTION:Join us for a Valentine’s Day Week Volunteer Appreciation Sub Bar Lunch and Fellowship! We’ll serve ham & turkey\, veggies\, lettuce wraps\, chips\, and our infamous Love Potion Punch\, feel free to bring a dessert to share. Any questions? Email Linda at vdc@loveinclakecounty.org.
URL:https://loveinclakecounty.org/event/love-is-on-the-menu-valentines-lunch/2025-04-23/
LOCATION:Love INC Office\, 339 Lakewood Ave\, Waukegan\, IL\, 60085\, United States
CATEGORIES:Serving Opportunity
ATTACH;FMTTYPE=image/png:https://loveinclakecounty.org/wp-content/uploads/2026/01/Valentine-Vol-Appreciation-2026-social.png
END:VEVENT
BEGIN:VEVENT
DTSTART;TZID=UTC:20250423T113000
DTEND;TZID=UTC:20250423T133000
DTSTAMP:20260419T134646
CREATED:20250331T181602Z
LAST-MODIFIED:20250331T181856Z
UID:10002982-1745407800-1745415000@loveinclakecounty.org
SUMMARY:Love INC Volunteers are 'Spud-tacular' Lunch
DESCRIPTION:Join us for a Volunteer Appreciation Baked Potato Bar! We’ll provide baked potatoes and a variety of toppings\, feel free to bring a dessert to share. Any questions? Email us at info@loveinclakecounty.org.
URL:https://loveinclakecounty.org/event/love-inc-volunteers-are-spud-tacular-lunch/2025-04-23/
LOCATION:Love INC Office\, 339 Lakewood Ave\, Waukegan\, IL\, 60085\, United States
CATEGORIES:Serving Opportunity
ATTACH;FMTTYPE=image/png:https://loveinclakecounty.org/wp-content/uploads/2025/03/Vol-Appr-2025-Social-Media-v2.png
END:VEVENT
BEGIN:VEVENT
DTSTART;TZID=UTC:20250422T113000
DTEND;TZID=UTC:20250422T133000
DTSTAMP:20260419T134646
CREATED:20260410T155543Z
LAST-MODIFIED:20260410T155543Z
UID:10003066-1745321400-1745328600@loveinclakecounty.org
SUMMARY:Love INC Volunteers Appreciation Week
DESCRIPTION:Thank you for ‘popping in’ to serve! Join us for a Volunteer Appreciation Popcorn Bar to celebrate National Volunteer Appreciation Week\, Mon April 20 thru Thur April 23 starting at 11:30am. Any questions? Email us at info@loveinclakecounty.org.
URL:https://loveinclakecounty.org/event/love-inc-volunteers-appreciation-week/2025-04-22/
LOCATION:Love INC Office\, 339 Lakewood Ave\, Waukegan\, IL\, 60085\, United States
CATEGORIES:Serving Opportunity
ATTACH;FMTTYPE=image/png:https://loveinclakecounty.org/wp-content/uploads/2026/04/Vol-Appr-2026-social.png
END:VEVENT
BEGIN:VEVENT
DTSTART;TZID=UTC:20250422T113000
DTEND;TZID=UTC:20250422T133000
DTSTAMP:20260419T134646
CREATED:20260126T190352Z
LAST-MODIFIED:20260126T190352Z
UID:10003055-1745321400-1745328600@loveinclakecounty.org
SUMMARY:Love Is On the Menu! Valentine's Lunch
DESCRIPTION:Join us for a Valentine’s Day Week Volunteer Appreciation Sub Bar Lunch and Fellowship! We’ll serve ham & turkey\, veggies\, lettuce wraps\, chips\, and our infamous Love Potion Punch\, feel free to bring a dessert to share. Any questions? Email Linda at vdc@loveinclakecounty.org.
URL:https://loveinclakecounty.org/event/love-is-on-the-menu-valentines-lunch/2025-04-22/
LOCATION:Love INC Office\, 339 Lakewood Ave\, Waukegan\, IL\, 60085\, United States
CATEGORIES:Serving Opportunity
ATTACH;FMTTYPE=image/png:https://loveinclakecounty.org/wp-content/uploads/2026/01/Valentine-Vol-Appreciation-2026-social.png
END:VEVENT
BEGIN:VEVENT
DTSTART;TZID=UTC:20250422T113000
DTEND;TZID=UTC:20250422T133000
DTSTAMP:20260419T134646
CREATED:20250331T181602Z
LAST-MODIFIED:20250331T181856Z
UID:10002981-1745321400-1745328600@loveinclakecounty.org
SUMMARY:Love INC Volunteers are 'Spud-tacular' Lunch
DESCRIPTION:Join us for a Volunteer Appreciation Baked Potato Bar! We’ll provide baked potatoes and a variety of toppings\, feel free to bring a dessert to share. Any questions? Email us at info@loveinclakecounty.org.
URL:https://loveinclakecounty.org/event/love-inc-volunteers-are-spud-tacular-lunch/2025-04-22/
LOCATION:Love INC Office\, 339 Lakewood Ave\, Waukegan\, IL\, 60085\, United States
CATEGORIES:Serving Opportunity
ATTACH;FMTTYPE=image/png:https://loveinclakecounty.org/wp-content/uploads/2025/03/Vol-Appr-2025-Social-Media-v2.png
END:VEVENT
BEGIN:VEVENT
DTSTART;TZID=UTC:20250421T113000
DTEND;TZID=UTC:20250421T133000
DTSTAMP:20260419T134646
CREATED:20260410T155543Z
LAST-MODIFIED:20260410T155543Z
UID:10003065-1745235000-1745242200@loveinclakecounty.org
SUMMARY:Love INC Volunteers Appreciation Week
DESCRIPTION:Thank you for ‘popping in’ to serve! Join us for a Volunteer Appreciation Popcorn Bar to celebrate National Volunteer Appreciation Week\, Mon April 20 thru Thur April 23 starting at 11:30am. Any questions? Email us at info@loveinclakecounty.org.
URL:https://loveinclakecounty.org/event/love-inc-volunteers-appreciation-week/2025-04-21/
LOCATION:Love INC Office\, 339 Lakewood Ave\, Waukegan\, IL\, 60085\, United States
CATEGORIES:Serving Opportunity
ATTACH;FMTTYPE=image/png:https://loveinclakecounty.org/wp-content/uploads/2026/04/Vol-Appr-2026-social.png
END:VEVENT
BEGIN:VEVENT
DTSTART;TZID=UTC:20250421T113000
DTEND;TZID=UTC:20250421T133000
DTSTAMP:20260419T134646
CREATED:20260126T190352Z
LAST-MODIFIED:20260126T190352Z
UID:10003054-1745235000-1745242200@loveinclakecounty.org
SUMMARY:Love Is On the Menu! Valentine's Lunch
DESCRIPTION:Join us for a Valentine’s Day Week Volunteer Appreciation Sub Bar Lunch and Fellowship! We’ll serve ham & turkey\, veggies\, lettuce wraps\, chips\, and our infamous Love Potion Punch\, feel free to bring a dessert to share. Any questions? Email Linda at vdc@loveinclakecounty.org.
URL:https://loveinclakecounty.org/event/love-is-on-the-menu-valentines-lunch/2025-04-21/
LOCATION:Love INC Office\, 339 Lakewood Ave\, Waukegan\, IL\, 60085\, United States
CATEGORIES:Serving Opportunity
ATTACH;FMTTYPE=image/png:https://loveinclakecounty.org/wp-content/uploads/2026/01/Valentine-Vol-Appreciation-2026-social.png
END:VEVENT
BEGIN:VEVENT
DTSTART;TZID=UTC:20250421T113000
DTEND;TZID=UTC:20250421T133000
DTSTAMP:20260419T134646
CREATED:20250331T181602Z
LAST-MODIFIED:20250331T181856Z
UID:10002980-1745235000-1745242200@loveinclakecounty.org
SUMMARY:Love INC Volunteers are 'Spud-tacular' Lunch
DESCRIPTION:Join us for a Volunteer Appreciation Baked Potato Bar! We’ll provide baked potatoes and a variety of toppings\, feel free to bring a dessert to share. Any questions? Email us at info@loveinclakecounty.org.
URL:https://loveinclakecounty.org/event/love-inc-volunteers-are-spud-tacular-lunch/2025-04-21/
LOCATION:Love INC Office\, 339 Lakewood Ave\, Waukegan\, IL\, 60085\, United States
CATEGORIES:Serving Opportunity
ATTACH;FMTTYPE=image/png:https://loveinclakecounty.org/wp-content/uploads/2025/03/Vol-Appr-2025-Social-Media-v2.png
END:VEVENT
END:VCALENDAR