BEGIN:VCALENDAR
VERSION:2.0
PRODID:-//Love INC Lake County - ECPv6.14.2//NONSGML v1.0//EN
CALSCALE:GREGORIAN
METHOD:PUBLISH
X-ORIGINAL-URL:https://loveinclakecounty.org
X-WR-CALDESC:Events for Love INC Lake County
REFRESH-INTERVAL;VALUE=DURATION:PT1H
X-Robots-Tag:noindex
X-PUBLISHED-TTL:PT1H
BEGIN:VTIMEZONE
TZID:UTC
BEGIN:STANDARD
TZOFFSETFROM:+0000
TZOFFSETTO:+0000
TZNAME:UTC
DTSTART:20260101T000000
END:STANDARD
END:VTIMEZONE
BEGIN:VTIMEZONE
TZID:America/Chicago
BEGIN:DAYLIGHT
TZOFFSETFROM:-0600
TZOFFSETTO:-0500
TZNAME:CDT
DTSTART:20260308T080000
END:DAYLIGHT
BEGIN:STANDARD
TZOFFSETFROM:-0500
TZOFFSETTO:-0600
TZNAME:CST
DTSTART:20261101T070000
END:STANDARD
END:VTIMEZONE
BEGIN:VEVENT
DTSTART;TZID=UTC:20260420T113000
DTEND;TZID=UTC:20260420T133000
DTSTAMP:20260419T102520
CREATED:20260410T155702Z
LAST-MODIFIED:20260410T155736Z
UID:10003068-1776684600-1776691800@loveinclakecounty.org
SUMMARY:National Volunteer Appreciation Week
DESCRIPTION:Thank you for ‘popping in’ to serve! Join us for a Volunteer Appreciation Popcorn Bar to celebrate National Volunteer Appreciation Week\, Mon April 20 thru Thur April 23 starting at 11:30am. Any questions? Email us at info@loveinclakecounty.org.
URL:https://loveinclakecounty.org/event/love-inc-volunteers-appreciation-week-2/
LOCATION:Love INC Office\, 339 Lakewood Ave\, Waukegan\, IL\, 60085\, United States
CATEGORIES:Serving Opportunity
ATTACH;FMTTYPE=image/png:https://loveinclakecounty.org/wp-content/uploads/2026/04/Vol-Appr-2026-social.png
END:VEVENT
BEGIN:VEVENT
DTSTART;VALUE=DATE:20260703
DTEND;VALUE=DATE:20260704
DTSTAMP:20260419T102520
CREATED:20260227T171510Z
LAST-MODIFIED:20260227T171510Z
UID:10003060-1783036800-1783123199@loveinclakecounty.org
SUMMARY:Office and Warehouse Closed For Independence Day
DESCRIPTION:Our office & warehouse are closed to celebrate Independence Day on Tuesday July 4th. Please save your donation drop-offs for later in the week!
URL:https://loveinclakecounty.org/event/office-and-warehouse-closed-for-independence-day/
LOCATION:Love INC Office\, 339 Lakewood Ave\, Waukegan\, IL\, 60085\, United States
CATEGORIES:Holiday
ATTACH;FMTTYPE=image/png:https://loveinclakecounty.org/wp-content/uploads/2023/06/July-4th-general-Social-Media.png
END:VEVENT
BEGIN:VEVENT
DTSTART;TZID=UTC:20260822T113000
DTEND;TZID=UTC:20260822T140000
DTSTAMP:20260419T102520
CREATED:20260305T201619Z
LAST-MODIFIED:20260305T201619Z
UID:10003063-1787398200-1787407200@loveinclakecounty.org
SUMMARY:Taste of Love INC Summer Picnic & Cook-Off
DESCRIPTION:SAVE THE DATE! Join us for fun and fellowship as we celebrate our volunteers and partner churches. Main course provided – please bring a dish to share for our annual Taste of Love INC cook-off! Prizes for favorite salad\, side\, and dessert. RSVP [link to come] to let us know how many of your family & friends can join us!
URL:https://loveinclakecounty.org/event/taste-of-love-inc-summer-picnic-cook-off-2/
LOCATION:Love INC Office\, 339 Lakewood Ave\, Waukegan\, IL\, 60085\, United States
CATEGORIES:Serving Opportunity
END:VEVENT
BEGIN:VEVENT
DTSTART;VALUE=DATE:20261126
DTEND;VALUE=DATE:20261128
DTSTAMP:20260419T102520
CREATED:20260227T171637Z
LAST-MODIFIED:20260227T171637Z
UID:10003061-1795651200-1795823999@loveinclakecounty.org
SUMMARY:Closed for Thanksgiving
DESCRIPTION:The Love INC office & Loved Twice Thrift Boutique will be closed Thursday November 27 thru Saturday November 29 for the Thanksgiving holiday. \nLoved Twice will be open for your holiday shopping on Wednesday November 26.
URL:https://loveinclakecounty.org/event/closed-for-thanksgiving-3/
LOCATION:Love INC Office\, 339 Lakewood Ave\, Waukegan\, IL\, 60085\, United States
CATEGORIES:Holiday
ATTACH;FMTTYPE=image/png:https://loveinclakecounty.org/wp-content/uploads/2025/01/Thx-2024-social.png
END:VEVENT
END:VCALENDAR