BEGIN:VCALENDAR
VERSION:2.0
PRODID:-//Love INC Lake County - ECPv6.14.2//NONSGML v1.0//EN
CALSCALE:GREGORIAN
METHOD:PUBLISH
X-WR-CALNAME:Love INC Lake County
X-ORIGINAL-URL:https://loveinclakecounty.org
X-WR-CALDESC:Events for Love INC Lake County
REFRESH-INTERVAL;VALUE=DURATION:PT1H
X-Robots-Tag:noindex
X-PUBLISHED-TTL:PT1H
BEGIN:VTIMEZONE
TZID:UTC
BEGIN:STANDARD
TZOFFSETFROM:+0000
TZOFFSETTO:+0000
TZNAME:UTC
DTSTART:20220101T000000
END:STANDARD
END:VTIMEZONE
BEGIN:VTIMEZONE
TZID:America/Chicago
BEGIN:DAYLIGHT
TZOFFSETFROM:-0600
TZOFFSETTO:-0500
TZNAME:CDT
DTSTART:20220313T080000
END:DAYLIGHT
BEGIN:STANDARD
TZOFFSETFROM:-0500
TZOFFSETTO:-0600
TZNAME:CST
DTSTART:20221106T070000
END:STANDARD
BEGIN:DAYLIGHT
TZOFFSETFROM:-0600
TZOFFSETTO:-0500
TZNAME:CDT
DTSTART:20230312T080000
END:DAYLIGHT
BEGIN:STANDARD
TZOFFSETFROM:-0500
TZOFFSETTO:-0600
TZNAME:CST
DTSTART:20231105T070000
END:STANDARD
BEGIN:DAYLIGHT
TZOFFSETFROM:-0600
TZOFFSETTO:-0500
TZNAME:CDT
DTSTART:20240310T080000
END:DAYLIGHT
BEGIN:STANDARD
TZOFFSETFROM:-0500
TZOFFSETTO:-0600
TZNAME:CST
DTSTART:20241103T070000
END:STANDARD
END:VTIMEZONE
BEGIN:VEVENT
DTSTART;TZID=UTC:20240824T113000
DTEND;TZID=UTC:20240824T140000
DTSTAMP:20260420T090611
CREATED:20240523T191145Z
LAST-MODIFIED:20250131T213242Z
UID:10002894-1724499000-1724508000@loveinclakecounty.org
SUMMARY:Taste of Love INC Summer Picnic & Cook-Off
DESCRIPTION:Join us for fun and fellowship as we celebrate our volunteers and partner churches. Main course provided – please bring a dish to share for our Taste of Love INC cook-off! Prizes for favorite salad\, side\, and dessert. RSVP here to let us know how many of your family & friends can join us!
URL:https://loveinclakecounty.org/event/taste-of-love-inc-summer-picnic-cook-off/
LOCATION:Love INC Office\, 339 Lakewood Ave\, Waukegan\, IL\, 60085\, United States
CATEGORIES:Serving Opportunity
ATTACH;FMTTYPE=image/png:https://loveinclakecounty.org/wp-content/uploads/2024/05/Taste-of-Love-INC-picnic-2024-website-square.png
END:VEVENT
BEGIN:VEVENT
DTSTART;TZID=UTC:20240812T183000
DTEND;TZID=UTC:20240812T200000
DTSTAMP:20260420T090611
CREATED:20231211T231254Z
LAST-MODIFIED:20231211T231254Z
UID:10002872-1723487400-1723492800@loveinclakecounty.org
SUMMARY:Love INC Volunteer Orientation (serving opportunity)
DESCRIPTION:Learn more about why we serve the way we do and how you might share your God-given talents through the ministries of Love INC’s partner churches. Share and help us spread the word! RSVP via this form.
URL:https://loveinclakecounty.org/event/love-inc-volunteer-orientation-serving-opportunity-17/
LOCATION:Love INC Office\, 339 Lakewood Ave\, Waukegan\, IL\, 60085\, United States
CATEGORIES:Serving Opportunity
ATTACH;FMTTYPE=image/png:https://loveinclakecounty.org/wp-content/uploads/2023/01/Vol-Orient_general-social.png
END:VEVENT
BEGIN:VEVENT
DTSTART;TZID=America/Chicago:20240803T103000
DTEND;TZID=America/Chicago:20240803T120000
DTSTAMP:20260420T090611
CREATED:20240523T173116Z
LAST-MODIFIED:20240523T173201Z
UID:10002893-1722681000-1722686400@loveinclakecounty.org
SUMMARY:New Hope Ministry Basic Car Maintenance Workshop (learning opportunity)
DESCRIPTION:Learn how to keep your car in good working order in this hands-on workshop! Led by the CARS Ministry of Christ Church. \nAt the Love INC office\, Saturday August 3rd 10:30a-noon. No childcare provided. Register at this link or contact NHM Coordinator Barb Poynter at newhope@loveinclakecounty.org or text 847.469.4011.
URL:https://loveinclakecounty.org/event/new-hope-ministry-basic-car-maintenance-workshop-learning-opportunity/
LOCATION:Love INC Office\, 339 Lakewood Ave\, Waukegan\, IL\, 60085\, United States
CATEGORIES:Learning Opportunity
ATTACH;FMTTYPE=image/png:https://loveinclakecounty.org/wp-content/uploads/2024/05/car-maint-website-social.png
END:VEVENT
BEGIN:VEVENT
DTSTART;TZID=UTC:20240713T093000
DTEND;TZID=UTC:20240713T110000
DTSTAMP:20260420T090611
CREATED:20231211T231704Z
LAST-MODIFIED:20231211T231704Z
UID:10002877-1720863000-1720868400@loveinclakecounty.org
SUMMARY:Love INC Volunteer Orientation (serving opportunity)
DESCRIPTION:Learn more about why we serve the way we do and how you might share your God-given talents through the ministries of Love INC’s partner churches. Share and help us spread the word! RSVP via this form.
URL:https://loveinclakecounty.org/event/love-inc-volunteer-orientation-serving-opportunity-22/
LOCATION:Love INC Office\, 339 Lakewood Ave\, Waukegan\, IL\, 60085\, United States
CATEGORIES:Serving Opportunity
ATTACH;FMTTYPE=image/png:https://loveinclakecounty.org/wp-content/uploads/2023/01/Vol-Orient_general-social.png
END:VEVENT
BEGIN:VEVENT
DTSTART;TZID=UTC:20240606T183000
DTEND;TZID=UTC:20240606T200000
DTSTAMP:20260420T090611
CREATED:20231211T231217Z
LAST-MODIFIED:20231211T231217Z
UID:10002871-1717698600-1717704000@loveinclakecounty.org
SUMMARY:Love INC Volunteer Orientation (serving opportunity)
DESCRIPTION:Learn more about why we serve the way we do and how you might share your God-given talents through the ministries of Love INC’s partner churches. Share and help us spread the word! RSVP via this form.
URL:https://loveinclakecounty.org/event/love-inc-volunteer-orientation-serving-opportunity-16/
LOCATION:Love INC Office\, 339 Lakewood Ave\, Waukegan\, IL\, 60085\, United States
CATEGORIES:Serving Opportunity
ATTACH;FMTTYPE=image/png:https://loveinclakecounty.org/wp-content/uploads/2023/01/Vol-Orient_general-social.png
END:VEVENT
BEGIN:VEVENT
DTSTART;TZID=UTC:20240511T093000
DTEND;TZID=UTC:20240511T110000
DTSTAMP:20260420T090611
CREATED:20231211T231620Z
LAST-MODIFIED:20231211T231620Z
UID:10002876-1715419800-1715425200@loveinclakecounty.org
SUMMARY:Love INC Volunteer Orientation (serving opportunity)
DESCRIPTION:Learn more about why we serve the way we do and how you might share your God-given talents through the ministries of Love INC’s partner churches. Share and help us spread the word! RSVP via this form.
URL:https://loveinclakecounty.org/event/love-inc-volunteer-orientation-serving-opportunity-21/
LOCATION:Love INC Office\, 339 Lakewood Ave\, Waukegan\, IL\, 60085\, United States
CATEGORIES:Serving Opportunity
ATTACH;FMTTYPE=image/png:https://loveinclakecounty.org/wp-content/uploads/2023/01/Vol-Orient_general-social.png
END:VEVENT
BEGIN:VEVENT
DTSTART;TZID=UTC:20240417T183000
DTEND;TZID=UTC:20240417T200000
DTSTAMP:20260420T090611
CREATED:20231211T231113Z
LAST-MODIFIED:20231211T231113Z
UID:10002870-1713378600-1713384000@loveinclakecounty.org
SUMMARY:Love INC Volunteer Orientation (serving opportunity)
DESCRIPTION:Learn more about why we serve the way we do and how you might share your God-given talents through the ministries of Love INC’s partner churches. Share and help us spread the word! RSVP via this form.
URL:https://loveinclakecounty.org/event/love-inc-volunteer-orientation-serving-opportunity-15/
LOCATION:Love INC Office\, 339 Lakewood Ave\, Waukegan\, IL\, 60085\, United States
CATEGORIES:Serving Opportunity
ATTACH;FMTTYPE=image/png:https://loveinclakecounty.org/wp-content/uploads/2023/01/Vol-Orient_general-social.png
END:VEVENT
BEGIN:VEVENT
DTSTART;TZID=UTC:20240316T093000
DTEND;TZID=UTC:20240316T110000
DTSTAMP:20260420T090611
CREATED:20231211T231548Z
LAST-MODIFIED:20231211T231548Z
UID:10002875-1710581400-1710586800@loveinclakecounty.org
SUMMARY:Love INC Volunteer Orientation (serving opportunity)
DESCRIPTION:Learn more about why we serve the way we do and how you might share your God-given talents through the ministries of Love INC’s partner churches. Share and help us spread the word! RSVP via this form.
URL:https://loveinclakecounty.org/event/love-inc-volunteer-orientation-serving-opportunity-20/
LOCATION:Love INC Office\, 339 Lakewood Ave\, Waukegan\, IL\, 60085\, United States
CATEGORIES:Serving Opportunity
ATTACH;FMTTYPE=image/png:https://loveinclakecounty.org/wp-content/uploads/2023/01/Vol-Orient_general-social.png
END:VEVENT
BEGIN:VEVENT
DTSTART;TZID=UTC:20240219T183000
DTEND;TZID=UTC:20240219T200000
DTSTAMP:20260420T090611
CREATED:20231211T231017Z
LAST-MODIFIED:20231211T231017Z
UID:10002869-1708367400-1708372800@loveinclakecounty.org
SUMMARY:Love INC Volunteer Orientation (serving opportunity)
DESCRIPTION:Learn more about why we serve the way we do and how you might share your God-given talents through the ministries of Love INC’s partner churches. Share and help us spread the word! RSVP via this form.
URL:https://loveinclakecounty.org/event/love-inc-volunteer-orientation-serving-opportunity-14/
LOCATION:Love INC Office\, 339 Lakewood Ave\, Waukegan\, IL\, 60085\, United States
CATEGORIES:Serving Opportunity
ATTACH;FMTTYPE=image/png:https://loveinclakecounty.org/wp-content/uploads/2023/01/Vol-Orient_general-social.png
END:VEVENT
BEGIN:VEVENT
DTSTART;TZID=UTC:20240113T093000
DTEND;TZID=UTC:20240113T110000
DTSTAMP:20260420T090611
CREATED:20231211T231517Z
LAST-MODIFIED:20231211T231517Z
UID:10002874-1705138200-1705143600@loveinclakecounty.org
SUMMARY:Love INC Volunteer Orientation (serving opportunity)
DESCRIPTION:Learn more about why we serve the way we do and how you might share your God-given talents through the ministries of Love INC’s partner churches. Share and help us spread the word! RSVP via this form.
URL:https://loveinclakecounty.org/event/love-inc-volunteer-orientation-serving-opportunity-19/
LOCATION:Love INC Office\, 339 Lakewood Ave\, Waukegan\, IL\, 60085\, United States
CATEGORIES:Serving Opportunity
ATTACH;FMTTYPE=image/png:https://loveinclakecounty.org/wp-content/uploads/2023/01/Vol-Orient_general-social.png
END:VEVENT
BEGIN:VEVENT
DTSTART;VALUE=DATE:20231222
DTEND;VALUE=DATE:20240102
DTSTAMP:20260420T090611
CREATED:20231108T232358Z
LAST-MODIFIED:20231108T235634Z
UID:10002822-1703203200-1704153599@loveinclakecounty.org
SUMMARY:Office and Warehouse Closed For Christmas
DESCRIPTION:Friday December 22 – Monday January 1\, reopening to serve Tuesday Jan 2. We will not be accepting donation drop-offs during this time.
URL:https://loveinclakecounty.org/event/office-and-warehouse-closed-for-christmas-2/
LOCATION:Love INC Office\, 339 Lakewood Ave\, Waukegan\, IL\, 60085\, United States
CATEGORIES:Holiday
ATTACH;FMTTYPE=image/jpeg:https://loveinclakecounty.org/wp-content/uploads/2022/10/LoveIncLC_Events_Closed-For-Christmas.jpg
END:VEVENT
BEGIN:VEVENT
DTSTART;TZID=UTC:20231118T093000
DTEND;TZID=UTC:20231118T110000
DTSTAMP:20260420T090611
CREATED:20230203T163714Z
LAST-MODIFIED:20230203T163714Z
UID:10002747-1700299800-1700305200@loveinclakecounty.org
SUMMARY:Love INC Volunteer Orientation (serving opportunity)
DESCRIPTION:Learn more about why we serve the way we do and how you might share your God-given talents through the ministries of Love INC’s partner churches. Share and help us spread the word! RSVP via this form.
URL:https://loveinclakecounty.org/event/love-inc-volunteer-orientation-serving-opportunity-9/
LOCATION:Love INC Office\, 339 Lakewood Ave\, Waukegan\, IL\, 60085\, United States
CATEGORIES:Serving Opportunity
ATTACH;FMTTYPE=image/png:https://loveinclakecounty.org/wp-content/uploads/2023/01/Vol-Orient_general-social.png
END:VEVENT
BEGIN:VEVENT
DTSTART;TZID=UTC:20231018T183000
DTEND;TZID=UTC:20231018T200000
DTSTAMP:20260420T090611
CREATED:20230203T163915Z
LAST-MODIFIED:20230203T163915Z
UID:10002751-1697653800-1697659200@loveinclakecounty.org
SUMMARY:Love INC Volunteer Orientation (serving opportunity)
DESCRIPTION:Learn more about why we serve the way we do and how you might share your God-given talents through the ministries of Love INC’s partner churches. Share and help us spread the word! RSVP via this form.
URL:https://loveinclakecounty.org/event/love-inc-volunteer-orientation-serving-opportunity-13/
LOCATION:Love INC Office\, 339 Lakewood Ave\, Waukegan\, IL\, 60085\, United States
CATEGORIES:Serving Opportunity
ATTACH;FMTTYPE=image/png:https://loveinclakecounty.org/wp-content/uploads/2023/01/Vol-Orient_general-social.png
END:VEVENT
BEGIN:VEVENT
DTSTART;VALUE=DATE:20230918
DTEND;VALUE=DATE:20230923
DTSTAMP:20260420T090611
CREATED:20230915T184354Z
LAST-MODIFIED:20230915T184354Z
UID:10002821-1694995200-1695427199@loveinclakecounty.org
SUMMARY:Modified Office & Warehouse Hours
DESCRIPTION:Our office/warehouse hours are modified for the week of September 18\, as our staff attend our National Gathering of affiliates from across the country. \nWe will be open on the following schedule: \nMon 9/18: Regular hours\nTues 9/19: CLOSED – NO DROP-OFFS\nWed 9/20: 10am – 1pm only (no before/after drop-offs available)\nThur 9/21: 10am – 1pm only (no before/after drop-offs available)\nFri 9/22: CLOSED – NO DROP-OFFS
URL:https://loveinclakecounty.org/event/modified-office-hours/
LOCATION:Love INC Office\, 339 Lakewood Ave\, Waukegan\, IL\, 60085\, United States
CATEGORIES:Holiday
ATTACH;FMTTYPE=image/png:https://loveinclakecounty.org/wp-content/uploads/2023/09/Closed-for-Training-09-2023-social-media.png
END:VEVENT
BEGIN:VEVENT
DTSTART;TZID=UTC:20230916T093000
DTEND;TZID=UTC:20230916T110000
DTSTAMP:20260420T090611
CREATED:20230203T163648Z
LAST-MODIFIED:20230203T163648Z
UID:10002746-1694856600-1694862000@loveinclakecounty.org
SUMMARY:Love INC Volunteer Orientation (serving opportunity)
DESCRIPTION:Learn more about why we serve the way we do and how you might share your God-given talents through the ministries of Love INC’s partner churches. Share and help us spread the word! RSVP via this form.
URL:https://loveinclakecounty.org/event/love-inc-volunteer-orientation-serving-opportunity-8/
LOCATION:Love INC Office\, 339 Lakewood Ave\, Waukegan\, IL\, 60085\, United States
CATEGORIES:Serving Opportunity
ATTACH;FMTTYPE=image/png:https://loveinclakecounty.org/wp-content/uploads/2023/01/Vol-Orient_general-social.png
END:VEVENT
BEGIN:VEVENT
DTSTART;TZID=UTC:20230826T113000
DTEND;TZID=UTC:20230826T140000
DTSTAMP:20260420T090611
CREATED:20230719T212115Z
LAST-MODIFIED:20250131T213421Z
UID:10002793-1693049400-1693058400@loveinclakecounty.org
SUMMARY:Taste of Love INC Summer Picnic & Cook-Off
DESCRIPTION:Join us for fun and fellowship as we celebrate our volunteers and partner churches. BBQ generously provided by Sweet Baby Ray’s. Please bring a dish to share and enter in our Taste of Love INC cook-off! Prizes for appetizer\, side dish\, salad\, and dessert. RSVP here so we know you are coming!
URL:https://loveinclakecounty.org/event/love-inc-summer-picnic-cook-off/
LOCATION:Love INC Office\, 339 Lakewood Ave\, Waukegan\, IL\, 60085\, United States
CATEGORIES:Serving Opportunity
ATTACH;FMTTYPE=image/png:https://loveinclakecounty.org/wp-content/uploads/2023/07/Summer-Picnic-Invitation-social.png
END:VEVENT
BEGIN:VEVENT
DTSTART;TZID=UTC:20230814T183000
DTEND;TZID=UTC:20230814T200000
DTSTAMP:20260420T090611
CREATED:20230203T163842Z
LAST-MODIFIED:20230203T163842Z
UID:10002750-1692037800-1692043200@loveinclakecounty.org
SUMMARY:Love INC Volunteer Orientation (serving opportunity)
DESCRIPTION:Learn more about why we serve the way we do and how you might share your God-given talents through the ministries of Love INC’s partner churches. Share and help us spread the word! RSVP via this form.
URL:https://loveinclakecounty.org/event/love-inc-volunteer-orientation-serving-opportunity-12/
LOCATION:Love INC Office\, 339 Lakewood Ave\, Waukegan\, IL\, 60085\, United States
CATEGORIES:Serving Opportunity
ATTACH;FMTTYPE=image/png:https://loveinclakecounty.org/wp-content/uploads/2023/01/Vol-Orient_general-social.png
END:VEVENT
BEGIN:VEVENT
DTSTART;TZID=UTC:20230708T093000
DTEND;TZID=UTC:20230708T110000
DTSTAMP:20260420T090611
CREATED:20230203T163618Z
LAST-MODIFIED:20230203T163618Z
UID:10002745-1688808600-1688814000@loveinclakecounty.org
SUMMARY:Love INC Volunteer Orientation (serving opportunity)
DESCRIPTION:Learn more about why we serve the way we do and how you might share your God-given talents through the ministries of Love INC’s partner churches. Share and help us spread the word! RSVP via this form.
URL:https://loveinclakecounty.org/event/love-inc-volunteer-orientation-serving-opportunity-7/
LOCATION:Love INC Office\, 339 Lakewood Ave\, Waukegan\, IL\, 60085\, United States
CATEGORIES:Serving Opportunity
ATTACH;FMTTYPE=image/png:https://loveinclakecounty.org/wp-content/uploads/2023/01/Vol-Orient_general-social.png
END:VEVENT
BEGIN:VEVENT
DTSTART;VALUE=DATE:20230704
DTEND;VALUE=DATE:20230705
DTSTAMP:20260420T090611
CREATED:20230626T204209Z
LAST-MODIFIED:20230626T204347Z
UID:10002790-1688428800-1688515199@loveinclakecounty.org
SUMMARY:Office and Warehouse Closed For Independence Day
DESCRIPTION:Our office & warehouse are closed to celebrate Independence Day on Tuesday July 4th. Please save your donation drop-offs for later in the week!
URL:https://loveinclakecounty.org/event/office-and-warehouse-closed-for-independance-day/
LOCATION:Love INC Office\, 339 Lakewood Ave\, Waukegan\, IL\, 60085\, United States
CATEGORIES:Holiday
ATTACH;FMTTYPE=image/png:https://loveinclakecounty.org/wp-content/uploads/2023/06/July-4th-general-Social-Media.png
END:VEVENT
BEGIN:VEVENT
DTSTART;TZID=UTC:20230601T183000
DTEND;TZID=UTC:20230601T200000
DTSTAMP:20260420T090611
CREATED:20230203T163814Z
LAST-MODIFIED:20230203T163814Z
UID:10002749-1685644200-1685649600@loveinclakecounty.org
SUMMARY:Love INC Volunteer Orientation (serving opportunity)
DESCRIPTION:Learn more about why we serve the way we do and how you might share your God-given talents through the ministries of Love INC’s partner churches. Share and help us spread the word! RSVP via this form.
URL:https://loveinclakecounty.org/event/love-inc-volunteer-orientation-serving-opportunity-11/
LOCATION:Love INC Office\, 339 Lakewood Ave\, Waukegan\, IL\, 60085\, United States
CATEGORIES:Serving Opportunity
ATTACH;FMTTYPE=image/png:https://loveinclakecounty.org/wp-content/uploads/2023/01/Vol-Orient_general-social.png
END:VEVENT
BEGIN:VEVENT
DTSTART;TZID=UTC:20230506T093000
DTEND;TZID=UTC:20230506T110000
DTSTAMP:20260420T090611
CREATED:20230203T163549Z
LAST-MODIFIED:20230203T163549Z
UID:10002744-1683365400-1683370800@loveinclakecounty.org
SUMMARY:Love INC Volunteer Orientation (serving opportunity)
DESCRIPTION:Learn more about why we serve the way we do and how you might share your God-given talents through the ministries of Love INC’s partner churches. Share and help us spread the word! RSVP via this form.
URL:https://loveinclakecounty.org/event/love-inc-volunteer-orientation-serving-opportunity-6/
LOCATION:Love INC Office\, 339 Lakewood Ave\, Waukegan\, IL\, 60085\, United States
CATEGORIES:Serving Opportunity
ATTACH;FMTTYPE=image/png:https://loveinclakecounty.org/wp-content/uploads/2023/01/Vol-Orient_general-social.png
END:VEVENT
BEGIN:VEVENT
DTSTART;TZID=UTC:20230405T183000
DTEND;TZID=UTC:20230405T200000
DTSTAMP:20260420T090611
CREATED:20230203T163745Z
LAST-MODIFIED:20230203T163745Z
UID:10002748-1680719400-1680724800@loveinclakecounty.org
SUMMARY:Love INC Volunteer Orientation (serving opportunity)
DESCRIPTION:Learn more about why we serve the way we do and how you might share your God-given talents through the ministries of Love INC’s partner churches. Share and help us spread the word! RSVP via this form.
URL:https://loveinclakecounty.org/event/love-inc-volunteer-orientation-serving-opportunity-10/
LOCATION:Love INC Office\, 339 Lakewood Ave\, Waukegan\, IL\, 60085\, United States
CATEGORIES:Serving Opportunity
ATTACH;FMTTYPE=image/png:https://loveinclakecounty.org/wp-content/uploads/2023/01/Vol-Orient_general-social.png
END:VEVENT
BEGIN:VEVENT
DTSTART;TZID=UTC:20230311T093000
DTEND;TZID=UTC:20230311T110000
DTSTAMP:20260420T090611
CREATED:20230116T170854Z
LAST-MODIFIED:20230120T170443Z
UID:10002727-1678527000-1678532400@loveinclakecounty.org
SUMMARY:Love INC Volunteer Orientation (serving opportunity)
DESCRIPTION:Learn more about why we serve the way we do and how you might share your God-given talents through the ministries of Love INC’s partner churches. Share and help us spread the word! RSVP via this form.
URL:https://loveinclakecounty.org/event/love-inc-volunteer-orientation-serving-opportunity-5/
LOCATION:Love INC Office\, 339 Lakewood Ave\, Waukegan\, IL\, 60085\, United States
CATEGORIES:Serving Opportunity
ATTACH;FMTTYPE=image/png:https://loveinclakecounty.org/wp-content/uploads/2023/01/Vol-Orient_general-social.png
END:VEVENT
BEGIN:VEVENT
DTSTART;TZID=UTC:20230213T183000
DTEND;TZID=UTC:20230213T200000
DTSTAMP:20260420T090611
CREATED:20230116T164415Z
LAST-MODIFIED:20230203T162004Z
UID:10002726-1676313000-1676318400@loveinclakecounty.org
SUMMARY:Love INC Volunteer Orientation (serving opportunity)
DESCRIPTION:Learn more about why we serve the way we do and how you might share your God-given talents through the ministries of Love INC’s partner churches. Share and help us spread the word! RSVP via this form.
URL:https://loveinclakecounty.org/event/love-inc-volunteer-orientation-serving-opportunity-4/
LOCATION:Love INC Office\, 339 Lakewood Ave\, Waukegan\, IL\, 60085\, United States
CATEGORIES:Serving Opportunity
ATTACH;FMTTYPE=image/png:https://loveinclakecounty.org/wp-content/uploads/2023/01/Vol-Orient_general-social.png
END:VEVENT
BEGIN:VEVENT
DTSTART;TZID=UTC:20230114T093000
DTEND;TZID=UTC:20230114T110000
DTSTAMP:20260420T090611
CREATED:20230108T214452Z
LAST-MODIFIED:20230203T162033Z
UID:10002724-1673688600-1673694000@loveinclakecounty.org
SUMMARY:Love INC Volunteer Orientation (serving opportunity)
DESCRIPTION:Learn more about why we serve the way we do and how you might share your God-given talents through the ministries of Love INC’s partner churches. Share and help us spread the word! RSVP via this form.
URL:https://loveinclakecounty.org/event/love-inc-volunteer-orientation-serving-opportunity-jan2023/
LOCATION:Love INC Office\, 339 Lakewood Ave\, Waukegan\, IL\, 60085\, United States
CATEGORIES:Serving Opportunity
ATTACH;FMTTYPE=image/png:https://loveinclakecounty.org/wp-content/uploads/2023/01/Vol-Orient_general-social.png
END:VEVENT
BEGIN:VEVENT
DTSTART;VALUE=DATE:20221223
DTEND;VALUE=DATE:20230103
DTSTAMP:20260420T090611
CREATED:20221031T180516Z
LAST-MODIFIED:20230403T182036Z
UID:10002722-1671753600-1672703999@loveinclakecounty.org
SUMMARY:Office and Warehouse Closed For Christmas
DESCRIPTION:Friday December 23 – Monday January 2\, reopening to serve Tuesday Jan 3
URL:https://loveinclakecounty.org/event/office-and-warehouse-closed-for-christmas/
LOCATION:Love INC Office\, 339 Lakewood Ave\, Waukegan\, IL\, 60085\, United States
CATEGORIES:Holiday
ATTACH;FMTTYPE=image/jpeg:https://loveinclakecounty.org/wp-content/uploads/2022/10/LoveIncLC_Events_Closed-For-Christmas.jpg
END:VEVENT
BEGIN:VEVENT
DTSTART;TZID=UTC:20221130T183000
DTEND;TZID=UTC:20221130T200000
DTSTAMP:20260420T090611
CREATED:20220823T005500Z
LAST-MODIFIED:20230203T162110Z
UID:10002438-1669833000-1669838400@loveinclakecounty.org
SUMMARY:Love INC Volunteer Orientation (serving opportunity)
DESCRIPTION:Last of 2022! \nAt our office & warehouse\, 339 Lakewood Ave.\, Waukegan \nLearn more about why we serve the way we do and how you might share your God-given talents through the ministries of Love INC’s partner churches. Share and help us spread the word! RSVP via this form.
URL:https://loveinclakecounty.org/event/love-inc-volunteer-orientation-serving-opportunity-3/
LOCATION:Love INC Office\, 339 Lakewood Ave\, Waukegan\, IL\, 60085\, United States
CATEGORIES:Serving Opportunity
ATTACH;FMTTYPE=image/jpeg:https://loveinclakecounty.org/wp-content/uploads/2022/08/LoveIncLC_Placeholder.jpg
END:VEVENT
BEGIN:VEVENT
DTSTART;TZID=UTC:20221008T093000
DTEND;TZID=UTC:20221008T110000
DTSTAMP:20260420T090611
CREATED:20220823T004206Z
LAST-MODIFIED:20250131T213548Z
UID:10002436-1665221400-1665226800@loveinclakecounty.org
SUMMARY:Love INC Volunteer Orientation (serving opportunity)
DESCRIPTION:At our office & warehouse\, 339 Lakewood Ave.\, Waukegan \nLearn more about why we serve the way we do and how you might share your God-given talents through the ministries of Love INC’s partner churches. Share and help us spread the word! RSVP via this form.
URL:https://loveinclakecounty.org/event/love-inc-volunteer-orientation-serving-opportunity-2/
LOCATION:Love INC Office\, 339 Lakewood Ave\, Waukegan\, IL\, 60085\, United States
CATEGORIES:Serving Opportunity
ATTACH;FMTTYPE=image/png:https://loveinclakecounty.org/wp-content/uploads/2022/08/Love-INC-Vol-Orient-Oct08-sat-680x680-1.png
END:VEVENT
BEGIN:VEVENT
DTSTART;TZID=UTC:20220910T113000
DTEND;TZID=UTC:20220910T143000
DTSTAMP:20260420T090611
CREATED:20220823T003916Z
LAST-MODIFIED:20250131T213456Z
UID:10002435-1662809400-1662820200@loveinclakecounty.org
SUMMARY:Love INC Summer Picnic (a celebration!)
DESCRIPTION:At our office & warehouse\, 339 Lakewood Ave.\, Waukegan \nJoin us for fun and fellowship as we celebrate our volunteers and partner churches. Food\, fellowship\, (maybe) some games… what more could you want?! RSVP here so we know you are coming!
URL:https://loveinclakecounty.org/event/love-inc-summer-picnic-a-celebration/
LOCATION:Love INC Office\, 339 Lakewood Ave\, Waukegan\, IL\, 60085\, United States
CATEGORIES:Serving Opportunity
ATTACH;FMTTYPE=image/png:https://loveinclakecounty.org/wp-content/uploads/2022/08/summer-picnic-2022-social.png
END:VEVENT
BEGIN:VEVENT
DTSTART;TZID=UTC:20220825T183000
DTEND;TZID=UTC:20220825T200000
DTSTAMP:20260420T090611
CREATED:20220823T003517Z
LAST-MODIFIED:20250131T213618Z
UID:10002434-1661452200-1661457600@loveinclakecounty.org
SUMMARY:Love INC Volunteer Orientation (serving opportunity)
DESCRIPTION:At our office & warehouse\, 339 Lakewood Ave.\, Waukegan \nLearn more about why we serve the way we do and how you might share your God-given talents through the ministries of Love INC’s partner churches. Share and help us spread the word! RSVP via this form.
URL:https://loveinclakecounty.org/event/love-inc-volunteer-orientation-serving-opportunity/
LOCATION:Love INC Office\, 339 Lakewood Ave\, Waukegan\, IL\, 60085\, United States
CATEGORIES:Serving Opportunity
ATTACH;FMTTYPE=image/png:https://loveinclakecounty.org/wp-content/uploads/2022/08/Love-INC-Vol-Orient-Aug25-thur-680x680-1.png
END:VEVENT
END:VCALENDAR