BEGIN:VCALENDAR
VERSION:2.0
PRODID:-//Love INC Lake County - ECPv6.14.2//NONSGML v1.0//EN
CALSCALE:GREGORIAN
METHOD:PUBLISH
X-WR-CALNAME:Love INC Lake County
X-ORIGINAL-URL:https://loveinclakecounty.org
X-WR-CALDESC:Events for Love INC Lake County
REFRESH-INTERVAL;VALUE=DURATION:PT1H
X-Robots-Tag:noindex
X-PUBLISHED-TTL:PT1H
BEGIN:VTIMEZONE
TZID:America/Chicago
BEGIN:DAYLIGHT
TZOFFSETFROM:-0600
TZOFFSETTO:-0500
TZNAME:CDT
DTSTART:20220313T080000
END:DAYLIGHT
BEGIN:STANDARD
TZOFFSETFROM:-0500
TZOFFSETTO:-0600
TZNAME:CST
DTSTART:20221106T070000
END:STANDARD
BEGIN:DAYLIGHT
TZOFFSETFROM:-0600
TZOFFSETTO:-0500
TZNAME:CDT
DTSTART:20230312T080000
END:DAYLIGHT
BEGIN:STANDARD
TZOFFSETFROM:-0500
TZOFFSETTO:-0600
TZNAME:CST
DTSTART:20231105T070000
END:STANDARD
BEGIN:DAYLIGHT
TZOFFSETFROM:-0600
TZOFFSETTO:-0500
TZNAME:CDT
DTSTART:20240310T080000
END:DAYLIGHT
BEGIN:STANDARD
TZOFFSETFROM:-0500
TZOFFSETTO:-0600
TZNAME:CST
DTSTART:20241103T070000
END:STANDARD
BEGIN:DAYLIGHT
TZOFFSETFROM:-0600
TZOFFSETTO:-0500
TZNAME:CDT
DTSTART:20250309T080000
END:DAYLIGHT
BEGIN:STANDARD
TZOFFSETFROM:-0500
TZOFFSETTO:-0600
TZNAME:CST
DTSTART:20251102T070000
END:STANDARD
END:VTIMEZONE
BEGIN:VEVENT
DTSTART;VALUE=DATE:20241225
DTEND;VALUE=DATE:20250108
DTSTAMP:20260419T134126
CREATED:20240327T220954Z
LAST-MODIFIED:20240327T221652Z
UID:10002883-1735084800-1736294399@loveinclakecounty.org
SUMMARY:Loved Twice Thrift Boutique Closed For Christmas
DESCRIPTION:Wednesday December 25 – Tuesday January 7\, reopening to serve Wednesday January 8
URL:https://loveinclakecounty.org/event/loved-twice-thrift-boutique-closed-for-christmas-3/
LOCATION:Loved Twice Thrift Boutique\, 3621 Grand Ave.\, Gurnee\, IL\, 60031\, United States
CATEGORIES:Holiday
ATTACH;FMTTYPE=image/png:https://loveinclakecounty.org/wp-content/uploads/2024/03/Cmas-2024-store.png
END:VEVENT
BEGIN:VEVENT
DTSTART;VALUE=DATE:20240704
DTEND;VALUE=DATE:20240706
DTSTAMP:20260419T134126
CREATED:20240327T222410Z
LAST-MODIFIED:20240701T135139Z
UID:10002884-1720051200-1720223999@loveinclakecounty.org
SUMMARY:Loved Twice Closed For Independence Day
DESCRIPTION:Loved Twice Thrift Boutique is closed for the Independence Day holiday on Thur July 4th and Fri July 5th. We are open regular business hours Wed July 3 10a-6p and Sat July 6th 10a-4p.
URL:https://loveinclakecounty.org/event/loved-twice-closed-for-independence-day-2/
LOCATION:Loved Twice Thrift Boutique\, 3621 Grand Ave.\, Gurnee\, IL\, 60031\, United States
CATEGORIES:Holiday
ATTACH;FMTTYPE=image/png:https://loveinclakecounty.org/wp-content/uploads/2024/03/4th-2024-store-v2.png
END:VEVENT
BEGIN:VEVENT
DTSTART;VALUE=DATE:20240329
DTEND;VALUE=DATE:20240331
DTSTAMP:20260419T134126
CREATED:20240327T164954Z
LAST-MODIFIED:20240327T164954Z
UID:10002880-1711670400-1711843199@loveinclakecounty.org
SUMMARY:Loved Twice Closed For Easter
DESCRIPTION:Friday March 29 – Saturday March 30
URL:https://loveinclakecounty.org/event/loved-twice-closed-for-easter/
LOCATION:Loved Twice Thrift Boutique\, 3621 Grand Ave.\, Gurnee\, IL\, 60031\, United States
CATEGORIES:Holiday
ATTACH;FMTTYPE=image/png:https://loveinclakecounty.org/wp-content/uploads/2024/03/Easter-HE-IS-RISEN-store-closed-2024-social.png
END:VEVENT
BEGIN:VEVENT
DTSTART;VALUE=DATE:20231220
DTEND;VALUE=DATE:20240103
DTSTAMP:20260419T134126
CREATED:20231108T233959Z
LAST-MODIFIED:20231108T234108Z
UID:10002824-1703030400-1704239999@loveinclakecounty.org
SUMMARY:Loved Twice Thrift Boutique Closed For Christmas
DESCRIPTION:Wednesday December 20 – Tuesday January 2\, reopening to serve Wednesday January 3
URL:https://loveinclakecounty.org/event/loved-twice-thrift-boutique-closed-for-christmas-2/
LOCATION:Loved Twice Thrift Boutique\, 3621 Grand Ave.\, Gurnee\, IL\, 60031\, United States
CATEGORIES:Holiday
ATTACH;FMTTYPE=image/png:https://loveinclakecounty.org/wp-content/uploads/2023/11/Closed-for-Christmas-social-store-2023.png
END:VEVENT
BEGIN:VEVENT
DTSTART;VALUE=DATE:20230701
DTEND;VALUE=DATE:20230702
DTSTAMP:20260419T134126
CREATED:20230626T211328Z
LAST-MODIFIED:20230626T211328Z
UID:10002791-1688169600-1688255999@loveinclakecounty.org
SUMMARY:Loved Twice Closed For Independence Day
DESCRIPTION:Loved Twice Thrift Boutique is closed for the Independence Day holiday on Saturday July 1st. We look forward to seeing your smiling faces on Wednesday July 5th!
URL:https://loveinclakecounty.org/event/loved-twice-closed-for-independence-day/
LOCATION:Loved Twice Thrift Boutique\, 3621 Grand Ave.\, Gurnee\, IL\, 60031\, United States
CATEGORIES:Holiday
ATTACH;FMTTYPE=image/png:https://loveinclakecounty.org/wp-content/uploads/2023/06/July-4th-general-Social-Media.png
END:VEVENT
BEGIN:VEVENT
DTSTART;VALUE=DATE:20230407
DTEND;VALUE=DATE:20230409
DTSTAMP:20260419T134126
CREATED:20230403T164851Z
LAST-MODIFIED:20230403T182114Z
UID:10002754-1680825600-1680998399@loveinclakecounty.org
SUMMARY:Loved Twice Closed For Easter
DESCRIPTION:Friday April 7 – Saturday April 8
URL:https://loveinclakecounty.org/event/office-and-warehouse-closed-for-easter/
LOCATION:Loved Twice Thrift Boutique\, 3621 Grand Ave.\, Gurnee\, IL\, 60031\, United States
CATEGORIES:Holiday
ATTACH;FMTTYPE=image/png:https://loveinclakecounty.org/wp-content/uploads/2023/04/Loved-Twice-Easter-social.png
END:VEVENT
BEGIN:VEVENT
DTSTART;VALUE=DATE:20221221
DTEND;VALUE=DATE:20230104
DTSTAMP:20260419T134126
CREATED:20221031T180901Z
LAST-MODIFIED:20231108T234241Z
UID:10002723-1671580800-1672790399@loveinclakecounty.org
SUMMARY:Loved Twice Thrift Boutique Closed For Christmas
DESCRIPTION:Wednesday December 21 – Tuesday January 3\, repoening to serve Wednesday January 4
URL:https://loveinclakecounty.org/event/loved-twice-thrift-boutique-closed-for-christmas/
LOCATION:Loved Twice Thrift Boutique\, 3621 Grand Ave.\, Gurnee\, IL\, 60031\, United States
CATEGORIES:Holiday
ATTACH;FMTTYPE=image/jpeg:https://loveinclakecounty.org/wp-content/uploads/2022/10/LoveIncLC_Events_Closed-For-Christmas.jpg
END:VEVENT
END:VCALENDAR