BEGIN:VCALENDAR
VERSION:2.0
PRODID:-//Love INC Lake County - ECPv6.14.2//NONSGML v1.0//EN
CALSCALE:GREGORIAN
METHOD:PUBLISH
X-ORIGINAL-URL:https://loveinclakecounty.org
X-WR-CALDESC:Events for Love INC Lake County
REFRESH-INTERVAL;VALUE=DURATION:PT1H
X-Robots-Tag:noindex
X-PUBLISHED-TTL:PT1H
BEGIN:VTIMEZONE
TZID:America/Chicago
BEGIN:DAYLIGHT
TZOFFSETFROM:-0600
TZOFFSETTO:-0500
TZNAME:CDT
DTSTART:20230312T080000
END:DAYLIGHT
BEGIN:STANDARD
TZOFFSETFROM:-0500
TZOFFSETTO:-0600
TZNAME:CST
DTSTART:20231105T070000
END:STANDARD
BEGIN:DAYLIGHT
TZOFFSETFROM:-0600
TZOFFSETTO:-0500
TZNAME:CDT
DTSTART:20240310T080000
END:DAYLIGHT
BEGIN:STANDARD
TZOFFSETFROM:-0500
TZOFFSETTO:-0600
TZNAME:CST
DTSTART:20241103T070000
END:STANDARD
END:VTIMEZONE
BEGIN:VEVENT
DTSTART;TZID=America/Chicago:20240725T174500
DTEND;TZID=America/Chicago:20240725T200000
DTSTAMP:20260420T235459
CREATED:20240520T211033Z
LAST-MODIFIED:20240520T211033Z
UID:10002890-1721929500-1721937600@loveinclakecounty.org
SUMMARY:New Hope Ministry Budget Basics Workshop (learning opportunity)
DESCRIPTION:Join us for 3 weeks to learn the basics of creating and following a budget so you can reach your financial goals. If you’re ready to improve your financial health\, we’re ready to help! \nTuesday evenings — July 11\, July 18\, July 25\nDinner at 5:45\, class 6:30-8:00pm \nRegister at this link or contact NHM Coordinator Barb Poynter at newhope@loveinclakecounty.org or text 847.469.4011
URL:https://loveinclakecounty.org/event/new-hope-ministry-budget-basics-workshop-learning-opportunity-2/2024-07-25/
LOCATION:Vertical Encounter\, 24 N Chapel St\, Waukegan\, 60085
CATEGORIES:Learning Opportunity
ATTACH;FMTTYPE=image/png:https://loveinclakecounty.org/wp-content/uploads/2023/05/Budget-Basics-Workshop-Social-Media.png
END:VEVENT
BEGIN:VEVENT
DTSTART;TZID=America/Chicago:20240718T174500
DTEND;TZID=America/Chicago:20240718T200000
DTSTAMP:20260420T235459
CREATED:20240520T211033Z
LAST-MODIFIED:20240520T211033Z
UID:10002889-1721324700-1721332800@loveinclakecounty.org
SUMMARY:New Hope Ministry Budget Basics Workshop (learning opportunity)
DESCRIPTION:Join us for 3 weeks to learn the basics of creating and following a budget so you can reach your financial goals. If you’re ready to improve your financial health\, we’re ready to help! \nTuesday evenings — July 11\, July 18\, July 25\nDinner at 5:45\, class 6:30-8:00pm \nRegister at this link or contact NHM Coordinator Barb Poynter at newhope@loveinclakecounty.org or text 847.469.4011
URL:https://loveinclakecounty.org/event/new-hope-ministry-budget-basics-workshop-learning-opportunity-2/2024-07-18/
LOCATION:Vertical Encounter\, 24 N Chapel St\, Waukegan\, 60085
CATEGORIES:Learning Opportunity
ATTACH;FMTTYPE=image/png:https://loveinclakecounty.org/wp-content/uploads/2023/05/Budget-Basics-Workshop-Social-Media.png
END:VEVENT
BEGIN:VEVENT
DTSTART;TZID=America/Chicago:20240711T174500
DTEND;TZID=America/Chicago:20240711T200000
DTSTAMP:20260420T235459
CREATED:20240520T211033Z
LAST-MODIFIED:20240520T211033Z
UID:10002888-1720719900-1720728000@loveinclakecounty.org
SUMMARY:New Hope Ministry Budget Basics Workshop (learning opportunity)
DESCRIPTION:Join us for 3 weeks to learn the basics of creating and following a budget so you can reach your financial goals. If you’re ready to improve your financial health\, we’re ready to help! \nTuesday evenings — July 11\, July 18\, July 25\nDinner at 5:45\, class 6:30-8:00pm \nRegister at this link or contact NHM Coordinator Barb Poynter at newhope@loveinclakecounty.org or text 847.469.4011
URL:https://loveinclakecounty.org/event/new-hope-ministry-budget-basics-workshop-learning-opportunity-2/2024-07-11/
LOCATION:Vertical Encounter\, 24 N Chapel St\, Waukegan\, 60085
CATEGORIES:Learning Opportunity
ATTACH;FMTTYPE=image/png:https://loveinclakecounty.org/wp-content/uploads/2023/05/Budget-Basics-Workshop-Social-Media.png
END:VEVENT
BEGIN:VEVENT
DTSTART;TZID=America/Chicago:20230801T174500
DTEND;TZID=America/Chicago:20230801T200000
DTSTAMP:20260420T235459
CREATED:20230522T171618Z
LAST-MODIFIED:20230717T212701Z
UID:10002789-1690911900-1690920000@loveinclakecounty.org
SUMMARY:New Hope Ministry Budget Basics Workshop (learning opportunity)
DESCRIPTION:Join us for this 3-week course to learn the basics of creating and following a budget. Get started using Mint — an online budgeting tool! If you’re ready to improve your financial health\, we’re ready to help! \nTuesday evenings — July 18\, July 25\, August 1\n5:45-6:15pm Dinner provided\n6:30-8:00pm Class \nREGISTRATION IS CLOSED. To register\, please use this link or contact NHM Coordinator Barb Poynter at newhope@loveinclakecounty.org or 847-782-8630 x111
URL:https://loveinclakecounty.org/event/new-hope-ministry-budget-basics-workshop-learning-opportunity/2023-08-01/
LOCATION:Vertical Encounter\, 24 N Chapel St\, Waukegan\, 60085
CATEGORIES:Learning Opportunity
ATTACH;FMTTYPE=image/png:https://loveinclakecounty.org/wp-content/uploads/2023/05/Budget-Basics-Workshop-Social-Media.png
END:VEVENT
BEGIN:VEVENT
DTSTART;TZID=America/Chicago:20230725T174500
DTEND;TZID=America/Chicago:20230725T200000
DTSTAMP:20260420T235459
CREATED:20230522T171618Z
LAST-MODIFIED:20230717T212701Z
UID:10002788-1690307100-1690315200@loveinclakecounty.org
SUMMARY:New Hope Ministry Budget Basics Workshop (learning opportunity)
DESCRIPTION:Join us for this 3-week course to learn the basics of creating and following a budget. Get started using Mint — an online budgeting tool! If you’re ready to improve your financial health\, we’re ready to help! \nTuesday evenings — July 18\, July 25\, August 1\n5:45-6:15pm Dinner provided\n6:30-8:00pm Class \nREGISTRATION IS CLOSED. To register\, please use this link or contact NHM Coordinator Barb Poynter at newhope@loveinclakecounty.org or 847-782-8630 x111
URL:https://loveinclakecounty.org/event/new-hope-ministry-budget-basics-workshop-learning-opportunity/2023-07-25/
LOCATION:Vertical Encounter\, 24 N Chapel St\, Waukegan\, 60085
CATEGORIES:Learning Opportunity
ATTACH;FMTTYPE=image/png:https://loveinclakecounty.org/wp-content/uploads/2023/05/Budget-Basics-Workshop-Social-Media.png
END:VEVENT
BEGIN:VEVENT
DTSTART;TZID=America/Chicago:20230718T174500
DTEND;TZID=America/Chicago:20230718T200000
DTSTAMP:20260420T235459
CREATED:20230522T171618Z
LAST-MODIFIED:20230717T212701Z
UID:10002787-1689702300-1689710400@loveinclakecounty.org
SUMMARY:New Hope Ministry Budget Basics Workshop (learning opportunity)
DESCRIPTION:Join us for this 3-week course to learn the basics of creating and following a budget. Get started using Mint — an online budgeting tool! If you’re ready to improve your financial health\, we’re ready to help! \nTuesday evenings — July 18\, July 25\, August 1\n5:45-6:15pm Dinner provided\n6:30-8:00pm Class \nREGISTRATION IS CLOSED. To register\, please use this link or contact NHM Coordinator Barb Poynter at newhope@loveinclakecounty.org or 847-782-8630 x111
URL:https://loveinclakecounty.org/event/new-hope-ministry-budget-basics-workshop-learning-opportunity/2023-07-18/
LOCATION:Vertical Encounter\, 24 N Chapel St\, Waukegan\, 60085
CATEGORIES:Learning Opportunity
ATTACH;FMTTYPE=image/png:https://loveinclakecounty.org/wp-content/uploads/2023/05/Budget-Basics-Workshop-Social-Media.png
END:VEVENT
END:VCALENDAR