BEGIN:VCALENDAR
VERSION:2.0
PRODID:-//Love INC Lake County - ECPv6.14.2//NONSGML v1.0//EN
CALSCALE:GREGORIAN
METHOD:PUBLISH
X-ORIGINAL-URL:https://loveinclakecounty.org
X-WR-CALDESC:Events for Love INC Lake County
REFRESH-INTERVAL;VALUE=DURATION:PT1H
X-Robots-Tag:noindex
X-PUBLISHED-TTL:PT1H
BEGIN:VTIMEZONE
TZID:America/Chicago
BEGIN:DAYLIGHT
TZOFFSETFROM:-0600
TZOFFSETTO:-0500
TZNAME:CDT
DTSTART:20230312T080000
END:DAYLIGHT
BEGIN:STANDARD
TZOFFSETFROM:-0500
TZOFFSETTO:-0600
TZNAME:CST
DTSTART:20231105T070000
END:STANDARD
END:VTIMEZONE
BEGIN:VEVENT
DTSTART;TZID=America/Chicago:20230504T073000
DTEND;TZID=America/Chicago:20230504T083000
DTSTAMP:20260420T021630
CREATED:20230424T202138Z
LAST-MODIFIED:20230424T202138Z
UID:10002755-1683185400-1683189000@loveinclakecounty.org
SUMMARY:National Day of Prayer - Gurnee
DESCRIPTION:Join the Village of Gurnee and Mayor Tom Hood at Gurnee’s National Day of Prayer.
URL:https://loveinclakecounty.org/event/national-day-of-prayer-gurnee2023/
LOCATION:Viking Park Dance Hall\, 4374 Old Grand Ave.\, Gurnee\, IL\, 60031\, United States
CATEGORIES:Holiday
ATTACH;FMTTYPE=image/png:https://loveinclakecounty.org/wp-content/uploads/2023/04/Gurnee-DOP-05-2023.png
END:VEVENT
END:VCALENDAR